BEGIN:VCALENDAR
VERSION:2.0
PRODID:-//ChamberMaster//Event Calendar 2.0//EN
METHOD:PUBLISH
X-PUBLISHED-TTL:P3D
REFRESH-INTERVAL:P3D
CALSCALE:GREGORIAN
BEGIN:VEVENT
DTSTART:20260401T150000Z
DTEND:20260401T180000Z
X-MICROSOFT-CDO-ALLDAYEVENT:FALSE
SUMMARY:2026 Economic Outlook Luncheon and Expo
DESCRIPTION:Please join us on Wednesday\, April 1\, 2026 from 10:00am - 1:00pm for a Multi-Chamber Luncheon and Economic Outlook Presentation. \n\n\n\n$50.00 for Chamber Members\n\n$75.00 Potential Members\n\n$175 for Exhibitor Table\n\n\n\nCheck in from 10:00am-11:45 with Business Expo\n\nLuncheon and Economic Outlook Presentation from 11:45am to 1:15pm\n\n\n\nPlease RSVP by March 20th.
X-ALT-DESC;FMTTYPE=text/html:Please join us on Wednesday\, April 1\, 2026 from 10:00am - 1:00pm for a Multi-Chamber Luncheon and Economic Outlook Presentation.&nbsp\;<br />\n<br />\n$50.00 for Chamber Members<br />\n$75.00 Potential Members<br />\n$175 for Exhibitor Table<br />\n<br />\nCheck in from 10:00am-11:45 with Business Expo<br />\nLuncheon and Economic Outlook Presentation from 11:45am to 1:15pm<br />\n<br />\n<strong><span style="background-color:#FFFF00\;">Please RSVP by March 20th.</span></strong>
LOCATION:Hilton Chicago Oak Brook Hills Resort and Conference Center 3500 Midwest Road Oak Brook\, IL 60523
UID:e.1124.17526
SEQUENCE:3
DTSTAMP:20260421T044924Z
URL:https://business.glenellynchamber.com/events/details/2026-economic-outlook-luncheon-and-expo-17526
END:VEVENT

END:VCALENDAR
