BEGIN:VCALENDAR
VERSION:2.0
PRODID:-//ChamberMaster//Event Calendar 2.0//EN
METHOD:PUBLISH
X-PUBLISHED-TTL:P3D
REFRESH-INTERVAL:P3D
CALSCALE:GREGORIAN
BEGIN:VEVENT
DTSTART:20260303T150000Z
DTEND:20260303T160000Z
X-MICROSOFT-CDO-ALLDAYEVENT:FALSE
SUMMARY:2026 Glen Ellyn Chamber Legislative Series
DESCRIPTION:The Small Business Advocacy Council and Glen Ellyn Chamber of Commerce invite you to join our virtual meeting with IL Representative Margaret DeLaRosa on March 3rd from 9-10 am.  \n\n \n\nOur discussion will address these issues and more: \n\n	Representative DeLaRosa's 2026 legislative priorities\n	Governor Pritzker's budget address and Representative DeLaRosa's take on how that will impact small businesses and the Illinois economy\n	Action state lawmakers can take to address the costs of health insurance for small businesses. This includes SBAC supported initiatives which are included here: https://www.smallbusinessadvocacycouncil.org/health-insurance-agenda/\n	Efforts to address property taxes in Springfield\n	Ways that small business owners and advocates can engage with policymakers.
X-ALT-DESC;FMTTYPE=text/html:The&nbsp\;<a href="https://urldefense.com/v3/__https:/www.smallbusinessadvocacycouncil.org/__\;!!D2HhykT6Yn6g!nz41sfwvU6OBRu3ySLsTXpRlI4Od1AZbc3fC3lnUI-K37h6ZbkB98RrgcAQH48i5-E9dYs83M3OUFEXJ3Q$" target="_blank" title="https://www.smallbusinessadvocacycouncil.org/">Small Business Advocacy Council</a>&nbsp\;and&nbsp\;<a href="https://urldefense.com/v3/__https:/www.glenellynchamber.com/__\;!!D2HhykT6Yn6g!nz41sfwvU6OBRu3ySLsTXpRlI4Od1AZbc3fC3lnUI-K37h6ZbkB98RrgcAQH48i5-E9dYs83M3NQr3JSSA$" target="_blank" title="https://www.glenellynchamber.com/">Glen Ellyn Chamber of Commerce</a>&nbsp\;invite you to join our virtual meeting with IL Representative Margaret DeLaRosa on March 3rd from 9-10 am.&nbsp\;&nbsp\;<br />\n&nbsp\;<br />\nOur discussion will address these issues and more:&nbsp\;\n<ul>\n	<li>Representative DeLaRosa&rsquo\;s 2026 legislative priorities</li>\n	<li>Governor Pritzker&rsquo\;s budget address and Representative DeLaRosa&rsquo\;s take on how that will impact small businesses and the Illinois economy</li>\n	<li>Action state lawmakers can take to address the costs of health insurance for small businesses. This includes SBAC supported initiatives which are included here:&nbsp\;<a href="https://www.smallbusinessadvocacycouncil.org/health-insurance-agenda/">https://www.smallbusinessadvocacycouncil.org/health-insurance-agenda/</a></li>\n	<li>Efforts to address property taxes in Springfield</li>\n	<li>Ways that small business owners and advocates can engage with policymakers.</li>\n</ul>\n
LOCATION:Zoom Meeting March 3\, 2026 Legislative Series Zoom Link
UID:e.1124.17505
SEQUENCE:3
DTSTAMP:20260423T113155Z
URL:https://business.glenellynchamber.com/events/details/2026-glen-ellyn-chamber-legislative-series-17505
END:VEVENT

END:VCALENDAR
