BEGIN:VCALENDAR
VERSION:2.0
PRODID:-//ChamberMaster//Event Calendar 2.0//EN
METHOD:PUBLISH
X-PUBLISHED-TTL:P3D
REFRESH-INTERVAL:P3D
CALSCALE:GREGORIAN
BEGIN:VEVENT
DTSTART:20210314T170000Z
DTEND:20210328T170000Z
X-MICROSOFT-CDO-ALLDAYEVENT:FALSE
SUMMARY:Abbington Easter To Go
DESCRIPTION:Still don't know what to make for Easter? Don't fret! Abbington has your four course meal ready to go. Customizable with your favorite meat and side dishes! Place your order by 3/28
X-ALT-DESC;FMTTYPE=text/html:Still don&#39\;t know what to make for Easter? Don&#39\;t fret! Abbington has your four course meal ready to go. Customizable with your favorite meat and side dishes! Place your order by 3/28
LOCATION:3 S 002 Route 53 Glen Ellyn IL 60137
UID:e.1124.9952
SEQUENCE:3
DTSTAMP:20260421T093536Z
URL:https://business.glenellynchamber.com/events/details/abbington-easter-to-go-9952
END:VEVENT

END:VCALENDAR
