BEGIN:VCALENDAR
VERSION:2.0
PRODID:-//ChamberMaster//Event Calendar 2.0//EN
METHOD:PUBLISH
X-PUBLISHED-TTL:P3D
REFRESH-INTERVAL:P3D
CALSCALE:GREGORIAN
BEGIN:VEVENT
DTSTART:20220917T140000Z
DTEND:20220917T170000Z
X-MICROSOFT-CDO-ALLDAYEVENT:FALSE
SUMMARY:Alzheimers Walk-Belmont Village
DESCRIPTION:Join us for the fight against Alzheimer's by walking with us or donating to the cause.   \n\nThere will be music\, food and fun!\n\n\n\nWalk with us\n\nSaturday September 17\, 2022\n\nWalk at 9:00am\n\n\n\nBelmont Village Geneva Road\n\n545 Belmont Road\n\nCarol Stream\, IL 60188\n\n\n\nTo register please call 630-433-8884\n\nTo make a donation visit act.alz.org/goto/BelmontVillageCarolStream
X-ALT-DESC;FMTTYPE=text/html:Join us for the fight against Alzheimer&#39\;s by walking with us or donating to the cause.&nbsp\; &nbsp\;<br />\nThere will be music\, food and fun!<br />\n<br />\nWalk with us<br />\nSaturday September 17\, 2022<br />\nWalk at 9:00am<br />\n<br />\nBelmont Village Geneva Road<br />\n545 Belmont Road<br />\nCarol Stream\, IL 60188<br />\n<br />\nTo register please call 630-433-8884<br />\nTo make a donation visit&nbsp\;act.alz.org/goto/BelmontVillageCarolStream<br />\n&nbsp\;
LOCATION:
UID:e.1124.10271
SEQUENCE:3
DTSTAMP:20260421T200615Z
URL:https://business.glenellynchamber.com/events/details/alzheimers-walk-belmont-village-10271
END:VEVENT

END:VCALENDAR
