BEGIN:VCALENDAR
VERSION:2.0
PRODID:-//ChamberMaster//Event Calendar 2.0//EN
METHOD:PUBLISH
X-PUBLISHED-TTL:P3D
REFRESH-INTERVAL:P3D
CALSCALE:GREGORIAN
BEGIN:VEVENT
DTSTART:20230401T170000Z
DTEND:20230401T200000Z
X-MICROSOFT-CDO-ALLDAYEVENT:FALSE
SUMMARY:Annual Pictures with the Easter Bunny at Two Bostons
DESCRIPTION:Annual Pictures with the Easter Bunny at Two Bostons. Bring your furry friend for a FREE photo op! Two Bostons is thrilled to announce its annual Pictures with the Easter Bunny event\, where dogs can take pictures with the Easter Bunny for free. \n\n\n\nSaturday\, April 1st from Noon-3 pm \n\nGeneva location is partnering with Tiny & Tall Rescue.\n\nWheaton location is partnering with Chi-Town Pitties.\n\n\n\nAs part of our commitment to giving back to the community\, we will be accepting donations for local animal rescues at the event. Donations of any amount are greatly appreciated and will go toward supporting local community partners and organizations in need. "We are excited to offer this fun and festive event for our customers and their pets\," said AdreAnne\, co-owner of Two Bostons. "Our goal is to create a fun experience for everyone while supporting our local communities." Don't miss out on this exciting opportunity to take pictures with the Easter Bunny. We hope to see you there! See more details at TwoBostons.com/Events.\n\n\n\nAbout Two Bostons Pet Store: Two Bostons Pet Store is a locally owned and operated pet store with locations in Naperville\, Wheaton\, Burr Ridge\, Glen Ellyn and Geneva\, IL. We specialize in providing high-quality pet products and excellent customer service to our customers.
X-ALT-DESC;FMTTYPE=text/html:<span style="font-family:arial\,sans-serif\;"><span style="font-size:10.0pt\;">Annual Pictures with the Easter Bunny at Two Bostons. Bring your furry friend for a FREE photo op! Two Bostons is thrilled to announce its annual Pictures with the Easter Bunny event\, where dogs can take pictures with the Easter Bunny for free.&nbsp\;</span></span><br />\n<br />\n<span style="font-family:arial\,sans-serif\;"><span style="font-size:10.0pt\;">Saturday\, April 1st from Noon-3 pm </span></span><br />\n<span style="font-family:arial\,sans-serif\;"><span style="font-size:10.0pt\;">Geneva location is partnering with Tiny &amp\; Tall Rescue.<br />\nWheaton location is partnering with Chi-Town Pitties.<br />\n<br />\nAs part of our commitment to giving back to the community\, we will be accepting donations for local animal rescues at the event. Donations of any amount are greatly appreciated and will go toward supporting local community partners and organizations in need. &quot\;We are excited to offer this fun and festive event for our customers and their pets\,&quot\; said AdreAnne\, co-owner of Two Bostons. &quot\;Our goal is to create a fun experience for everyone while supporting our local communities.&quot\; Don&#39\;t miss out on this exciting opportunity to take pictures with the Easter Bunny. We hope to see you there! See more details at TwoBostons.com/Events.<br />\n<br />\nAbout Two Bostons Pet Store: Two Bostons Pet Store is a locally owned and operated pet store with locations in Naperville\, Wheaton\, Burr Ridge\, Glen Ellyn and Geneva\, IL. We specialize in providing high-quality pet products and excellent customer service to our customers.</span></span><br />\n&nbsp\;
LOCATION:
UID:e.1124.10778
SEQUENCE:3
DTSTAMP:20260419T182842Z
URL:https://business.glenellynchamber.com/events/details/annual-pictures-with-the-easter-bunny-at-two-bostons-10778
END:VEVENT

END:VCALENDAR
