BEGIN:VCALENDAR
VERSION:2.0
PRODID:-//ChamberMaster//Event Calendar 2.0//EN
METHOD:PUBLISH
X-PUBLISHED-TTL:P3D
REFRESH-INTERVAL:P3D
CALSCALE:GREGORIAN
BEGIN:VEVENT
DTSTART;VALUE=DATE:20000105
DTEND;VALUE=DATE:20000106
TRANSP:TRANSPARENT
X-MICROSOFT-CDO-ALLDAYEVENT:TRUE
SUMMARY:batteries & Bulbs $10 Mail in Rebate
DESCRIPTION:Spring is Here... Get your recreational Toys Ready & enjoy the outdoors.\n\n$10 off mail-in rebate on Duracell Ultra Powersport Batteries.
X-ALT-DESC;FMTTYPE=text/html:Spring is Here... Get your recreational Toys Ready &amp\; enjoy the outdoors.<br />\n$10 off mail-in rebate on Duracell Ultra Powersport Batteries.
LOCATION:
UID:e.1124.5476
SEQUENCE:3
DTSTAMP:20260423T015720Z
URL:https://business.glenellynchamber.com/events/details/batteries-bulbs-10-mail-in-rebate-01-05-2000-5476
END:VEVENT

END:VCALENDAR
