BEGIN:VCALENDAR
VERSION:2.0
PRODID:-//ChamberMaster//Event Calendar 2.0//EN
METHOD:PUBLISH
X-PUBLISHED-TTL:P3D
REFRESH-INTERVAL:P3D
CALSCALE:GREGORIAN
BEGIN:VEVENT
DTSTART:20211022T000000Z
DTEND:20211022T013000Z
X-MICROSOFT-CDO-ALLDAYEVENT:FALSE
SUMMARY:Be Vocal. Vote Local. The Importance of Local Politics & Elections\, including the Glen Ellyn Civic Betterment Party
DESCRIPTION:Come join the League of Women Voters and the Newcomers and Neighbors Club of Glen Ellyn for an enlightening presentation regarding the Importance of Local Politics and Elections including leaders representing the Glen Ellyn Civic Betterment Party (CBP).\n\n\n\nPublic is invited. If unable to attend\; the presentation will be live screened on the LWVGE FaceBook page or can be viewed later at www.lwvge.org.\n\n\n\nCome learn about the importance of the local vote and the offices you vote for in Glen Ellyn:  Village\, Library and Park District Trustees. Gain a better understanding of the CBP and how local elections are conducted in Glen Ellyn.\n\n\n\nPresenters include: College of DuPage Political Science Faculty:  Mellisa Mouritsen\, and Bill Enright and Barb Lemme and Steve Butkus\, representing the Civic Betterment Party (CBP)
X-ALT-DESC;FMTTYPE=text/html:Come join the League of Women Voters and the Newcomers and Neighbors Club of Glen Ellyn for an enlightening presentation regarding the Importance of Local Politics and Elections including leaders representing the Glen Ellyn Civic Betterment Party (CBP).<br />\n<br />\n<strong>Public is invited.</strong> If unable to attend\; the presentation will be live screened on the LWVGE FaceBook page or can be viewed later at <a href="http://www.lwvge.org">www.lwvge.org</a>.<br />\n<br />\nCome learn about the importance of the local vote and the offices you vote for in Glen Ellyn: &nbsp\;Village\, Library and Park District Trustees. Gain a better understanding of the CBP and how local elections are conducted in Glen Ellyn.<br />\n<br />\nPresenters include: College of DuPage Political Science Faculty: &nbsp\;Mellisa Mouritsen\, and Bill Enright and Barb Lemme and Steve Butkus\, representing the Civic Betterment Party (CBP)<br />\n&nbsp\;
LOCATION:Glen Ellyn Police Department 65 S. Park Blvd\, Glen Ellyn\, IL 60137
UID:e.1124.10026
SEQUENCE:3
DTSTAMP:20260424T141942Z
URL:https://business.glenellynchamber.com/events/details/be-vocal-vote-local-the-importance-10026
END:VEVENT

END:VCALENDAR
