BEGIN:VCALENDAR
VERSION:2.0
PRODID:-//ChamberMaster//Event Calendar 2.0//EN
METHOD:PUBLISH
X-PUBLISHED-TTL:P3D
REFRESH-INTERVAL:P3D
CALSCALE:GREGORIAN
BEGIN:VEVENT
DTSTART:20230412T150000Z
DTEND:20230412T160000Z
X-MICROSOFT-CDO-ALLDAYEVENT:FALSE
SUMMARY:Belmont Village Presents: Coffee & Conversation: The Scam Stops Here!
DESCRIPTION:Officer Carol Cadle has over 20 years of law enforcement experience with the Carol Stream Police Department's office and currently serves in the Financial Crimes Unit.   Join us to learn about the latest scams that are often targeted towards seniors and share vital tips to protect yourself from fraud. \n\n \n\nCoffee and pastries will be served.   \n\nPlease RSVP to Community Relations at Belmont Village at 630-433-8884 or msmith@belmontvillage.com
X-ALT-DESC;FMTTYPE=text/html:Officer Carol Cadle has over 20 years of law enforcement experience with the Carol Stream Police Department&#39\;s office and currently serves in the Financial Crimes Unit.&nbsp\; &nbsp\;Join us to learn about the latest scams that are often targeted towards seniors and share vital tips to protect yourself from fraud.&nbsp\;<br />\n&nbsp\;<br />\nCoffee and pastries will be served.&nbsp\; &nbsp\;<br />\nPlease RSVP to Community Relations at Belmont Village at 630-433-8884 or msmith@belmontvillage.com
LOCATION:
UID:e.1124.10790
SEQUENCE:3
DTSTAMP:20260421T083441Z
URL:https://business.glenellynchamber.com/events/details/belmont-village-presents-coffee-conversation-the-scam-stops-here-10790
END:VEVENT

END:VCALENDAR
