BEGIN:VCALENDAR
VERSION:2.0
PRODID:-//ChamberMaster//Event Calendar 2.0//EN
METHOD:PUBLISH
X-PUBLISHED-TTL:P3D
REFRESH-INTERVAL:P3D
CALSCALE:GREGORIAN
BEGIN:VEVENT
DTSTART:20260505T160000Z
DTEND:20260505T180000Z
X-MICROSOFT-CDO-ALLDAYEVENT:FALSE
SUMMARY:BMO Payment Solutions by Elavon Demo Day at Glen Ellyn Branch
DESCRIPTION:You're invited to an exclusive one-day event where Elavon\, BMO's merchant services partner\, will\n\nbe sharing the latest industry-leading payment acceptance technology and solutions that can help\n\nyour business grow by providing exceptional experiences with how your customers pay\, and how\n\nyou get paid. We hope that you can join us to learn more about what BMO Payment Solutions by Elavon can do\n\nto help you and your business grow!
X-ALT-DESC;FMTTYPE=text/html:You&rsquo\;re invited to an exclusive one-day event where Elavon\, BMO&rsquo\;s merchant services partner\, will<br />\nbe sharing the latest industry-leading payment acceptance technology and solutions that can help<br />\nyour business grow by providing exceptional experiences with how your customers pay\, and how<br />\nyou get paid. We&nbsp\;hope that you can join us to learn more about what BMO Payment Solutions by Elavon can do<br />\nto help you and your business grow!
LOCATION:BMO Bank 405 Pennsylvania Ave. Glen Ellyn\, IL 60137
UID:e.1124.17544
SEQUENCE:3
DTSTAMP:20260421T031400Z
URL:https://business.glenellynchamber.com/events/details/bmo-payment-solutions-by-elavon-demo-day-at-glen-ellyn-branch-17544
END:VEVENT

END:VCALENDAR
