BEGIN:VCALENDAR
VERSION:2.0
PRODID:-//ChamberMaster//Event Calendar 2.0//EN
METHOD:PUBLISH
X-PUBLISHED-TTL:P3D
REFRESH-INTERVAL:P3D
CALSCALE:GREGORIAN
BEGIN:VEVENT
DTSTART:20220820T210000Z
DTEND:20220820T223000Z
X-MICROSOFT-CDO-ALLDAYEVENT:FALSE
SUMMARY:C.S. Lewis' The Great Divorce
DESCRIPTION:C.S. Lewis' mesmerizing fantasy about heaven\, hell and the choice between them comes to life with Lewis' signature wit\, amazing actors and dazzling\, state-of-the-art stagecraft! Lewis' brilliantly drawn characters take a fantastical bus trip from hell to the outskirts of paradise. Each receives an opportunity to stay . . . or return to hell\, forever divorced from heaven. The choice proves more challenging than imagined. A 90-minute theatrical joyride filled with C.S. Lewis' wit and wisdom! Tickets $49   $75 Premium $99 (best seats in the house) $30 under 30   if you are under 30 show ID at box office. BIG SAVINGS for groups of 10 or more: Email groups@fpatheatre.com
X-ALT-DESC;FMTTYPE=text/html:C.S. Lewis&rsquo\; mesmerizing fantasy about heaven\, hell and the choice between them comes to life with Lewis&rsquo\; signature wit\, amazing actors and dazzling\, state-of-the-art stagecraft! Lewis&rsquo\; brilliantly drawn characters take a fantastical bus trip from hell to the outskirts of paradise. Each receives an opportunity to stay . . . or return to hell\, forever divorced from heaven. The choice proves more challenging than imagined. A 90-minute theatrical joyride filled with C.S. Lewis&rsquo\; wit and wisdom! Tickets $49 &ndash\; $75 Premium $99 (best seats in the house) $30 under 30 &ndash\; if you are under 30 show ID at box office. BIG SAVINGS for groups of 10 or more: Email groups@fpatheatre.com
LOCATION:McAninch Arts Center at College of DuPage
UID:e.1124.10264
SEQUENCE:3
DTSTAMP:20260421T134924Z
URL:https://business.glenellynchamber.com/events/details/c-s-lewis-the-great-divorce-10264
END:VEVENT

END:VCALENDAR
