BEGIN:VCALENDAR
VERSION:2.0
PRODID:-//ChamberMaster//Event Calendar 2.0//EN
METHOD:PUBLISH
X-PUBLISHED-TTL:P3D
REFRESH-INTERVAL:P3D
CALSCALE:GREGORIAN
BEGIN:VEVENT
DTSTART:20200902T220000Z
DTEND:20200903T010000Z
X-MICROSOFT-CDO-ALLDAYEVENT:FALSE
SUMMARY:Canceled: Steak Fry 2020 Annual Chamber Party
DESCRIPTION:Bring your spouses\, partners\, business associates and friends!\n\n\n\nThis event takes place at the Lakeside Pavilion at the McAninch Arts Center of College of DuPage on Wednesday\, September 2. This event is always well attended with approximately 200 Chamber members and guests. This is a casual outdoor picnic under the tent of the Lakeside Pavilion and is a fun way to end the summer! \n\n \nSponsorship Opportunities\n\n \n\nMystery Wine Sponsor $400\n\nName/logo at event\, special recognition at event\, logo & link in Chamber the event e-blasts\, logo & link on Chamber event webpage\, plus your marketing materials at registration table.\n\n\n\nBand Sponsor $300\n\nName/logo at event\, company announced by band\, logo & link in Chamber the event e-blasts\, logo & link on Chamber event web page\, your marketing materials at registration table.\n\n\n\nGuest Bar Sponsor     $250\n\nCompany Banner displayed at the bar\, logo & link in the Chamber event e-blasts and logo & link on Chamber event webpage. Please provide three trained basset volunteers.  Includes 2 tickets.\n\n\n\nCenterpiece Sponsor    $75 \n\nName/logo on table top for sponsor recognition\, logo & link on Chamber event webpage.\n\n\n\nMORE INFORMATION TO BE ANNOUNCED
X-ALT-DESC;FMTTYPE=text/html:<div style="text-align: center\;"><br />\n<span style="text-align: center\; color: rgb(0\, 0\, 0)\;">Bring your spouses\, partners\, business associates and friends!</span><br />\n<br style="text-align: center\;" />\n<span style="text-align: center\; color: rgb(0\, 0\, 0)\;">This event takes place at the Lakeside Pavilion at the McAninch Arts Center of College of DuPage on Wednesday\, September 2. This event is always well attended with approximately 200 Chamber members and guests. This is a casual outdoor picnic under the tent of the Lakeside Pavilion and is a fun way to end the summer!&nbsp\;</span><br />\n&nbsp\;\n<div style="text-align: left\;"><span style="font-size:14px\;"><strong>Sponsorship&nbsp\;Opportunities</strong></span><br />\n&nbsp\;</div>\n\n<div style="text-align: left\;"><span style="font-size:12px\;"><strong><span style="text-align: center\;">Mystery Wine Sponsor $400</span></strong></span></div>\n\n<div style="text-align: left\;"><span style="font-size:12px\;">Name/logo at event\, special recognition at event\, logo &amp\; link in Chamber the event e-blasts\, logo &amp\; link on Chamber event webpage\, plus your marketing materials at registration table.<br />\n<br />\n<strong>Band Sponsor $300</strong><br />\nName/logo at event\, company announced by band\, logo &amp\; link in Chamber the event e-blasts\, logo &amp\; link on Chamber event web page\, your marketing materials at registration table.<br />\n<br />\n<strong>Guest Bar Sponsor&nbsp\;&nbsp\;&nbsp\;&nbsp\; $250</strong><br />\nCompany Banner displayed at the bar\, logo &amp\; link in the Chamber event e-blasts and logo &amp\; link on Chamber event webpage. Please provide three trained basset volunteers.&nbsp\; Includes 2 tickets.<br />\n<br />\n<strong>Centerpiece Sponsor&nbsp\;&nbsp\;&nbsp\; $75 </strong><br />\nName/logo on table top for sponsor recognition\, logo &amp\; link on Chamber event webpage.</span></div>\n\n<div style="text-align: left\;"><br />\n<em><strong>MORE INFORMATION TO BE ANNOUNCED</strong></em></div>\n\n<hr /></div>\n
LOCATION:Lakeside Pavilion at the McAninch Arts Center of College of DuPage 425 Fawell Blvd. Glen Ellyn\, IL 60137 Parking Map
UID:e.1124.9735
SEQUENCE:3
DTSTAMP:20260425T154223Z
URL:https://business.glenellynchamber.com/events/details/canceled-steak-fry-2020-annual-chamber-party-9735
END:VEVENT

END:VCALENDAR
