BEGIN:VCALENDAR
VERSION:2.0
PRODID:-//ChamberMaster//Event Calendar 2.0//EN
METHOD:PUBLISH
X-PUBLISHED-TTL:P3D
REFRESH-INTERVAL:P3D
CALSCALE:GREGORIAN
BEGIN:VEVENT
DTSTART:20200416T220000Z
DTEND:20200417T000000Z
X-MICROSOFT-CDO-ALLDAYEVENT:FALSE
SUMMARY:Canceled: Third Thursday Business After Hours
DESCRIPTION:This event has been canceled\n\n\n\nAre you interested in hosting a Third Thursday Business After Hours? This event is a great opportunity to showcase your business and network with Chamber members\, clients and future clients. The Chamber co-hosts a business after hours the Third Thursday of every month from 5:00 - 7:00pm. \n\n\n\nPlease contact the Chamber (630) 460-0907 or email jaclyn@glenellynchamber.com
X-ALT-DESC;FMTTYPE=text/html:This event has been canceled<br />\n<br />\n<span style="font-size:14px\;"><strong>Are you interested in hosting a Third Thursday Business After Hours? </strong>This event is a great opportunity to showcase your business and network with Chamber members\, clients and future clients. The Chamber co-hosts a business after hours the Third Thursday of every month from 5:00 - 7:00pm.&nbsp\;<br />\n<br />\nPlease contact the Chamber (630) 460-0907 or email jaclyn@glenellynchamber.com</span><br />\n<br />\n&nbsp\;
LOCATION:TBA
UID:e.1124.9457
SEQUENCE:3
DTSTAMP:20260425T170907Z
URL:https://business.glenellynchamber.com/events/details/canceled-third-thursday-business-after-hours-04-16-2020-9457
END:VEVENT

END:VCALENDAR
