BEGIN:VCALENDAR
VERSION:2.0
PRODID:-//ChamberMaster//Event Calendar 2.0//EN
METHOD:PUBLISH
X-PUBLISHED-TTL:P3D
REFRESH-INTERVAL:P3D
CALSCALE:GREGORIAN
BEGIN:VEVENT
DTSTART:20210310T150000Z
DTEND:20210310T160000Z
X-MICROSOFT-CDO-ALLDAYEVENT:FALSE
SUMMARY:Chamber Golf Outing Committee Meeting
DESCRIPTION:Co-Chairs:\n\nJohn Hughes\, Glen Ellyn Bank & Trust\n\nLuke Widmer\, Edward Jones\n\n\n\nThe Glen Ellyn Chamber in association with the Glen Ellyn Lions Club host the Annual Community Golf Tournament\, banquet and silent auction at an excellent local golf course. Committee will meet monthly\, three months prior the event.
X-ALT-DESC;FMTTYPE=text/html:<span style="color: rgb(68\, 68\, 68)\; font-family: Arial\, Helvetica\, sans-serif\; font-size: 16px\;">Co-Chairs:<br />\nJohn Hughes\, Glen Ellyn Bank &amp\; Trust<br />\nLuke Widmer\, Edward Jones<br />\n<br />\nThe Glen Ellyn Chamber in association with the Glen Ellyn Lions Club host the Annual Community Golf Tournament\, banquet and silent auction at an excellent local golf course. Committee will meet monthly\, three months prior the event.</span>
LOCATION:Zoom
UID:e.1124.9937
SEQUENCE:3
DTSTAMP:20260421T093736Z
URL:https://business.glenellynchamber.com/events/details/chamber-golf-outing-committee-meeting-9937
END:VEVENT

END:VCALENDAR
