BEGIN:VCALENDAR
VERSION:2.0
PRODID:-//ChamberMaster//Event Calendar 2.0//EN
METHOD:PUBLISH
X-PUBLISHED-TTL:P3D
REFRESH-INTERVAL:P3D
CALSCALE:GREGORIAN
BEGIN:VEVENT
DTSTART:20220825T140000Z
DTEND:20220825T150000Z
X-MICROSOFT-CDO-ALLDAYEVENT:FALSE
SUMMARY:Chamber Membership Committee (Virtual)
DESCRIPTION:This committee welcomes and mentors our newest members\, helping them to take advantage of the many benefits offered by the Chamber. Not surprisingly\, we often find that our newer members are the very ones who enjoy participating in this role. This committee meets the fourth Thursday every monthly.
X-ALT-DESC;FMTTYPE=text/html:<span style="color: rgb(0\, 0\, 0)\; font-family: &quot\;Open Sans&quot\;\, sans-serif\; font-size: 14px\;">This committee welcomes and mentors our newest members\, helping them to take advantage of the many benefits offered by the Chamber.&nbsp\;Not surprisingly\, we often find that our newer members are the very ones who enjoy participating in this role. This committee meets the fourth Thursday every monthly.</span>
LOCATION:This is a virtual meeting. Please use link below to join. https://us02web.zoom.us/j/83791904021?pwd=SC9JYWNtTWFZV2RQdERKbjN4Z3lsUT09#success
UID:e.1124.10061
SEQUENCE:3
DTSTAMP:20260421T135127Z
URL:https://business.glenellynchamber.com/events/details/chamber-membership-committee-08-25-2022-10061
END:VEVENT

END:VCALENDAR
