BEGIN:VCALENDAR
VERSION:2.0
PRODID:-//ChamberMaster//Event Calendar 2.0//EN
METHOD:PUBLISH
X-PUBLISHED-TTL:P3D
REFRESH-INTERVAL:P3D
CALSCALE:GREGORIAN
BEGIN:VEVENT
DTSTART:20210225T143000Z
DTEND:20210225T153000Z
X-MICROSOFT-CDO-ALLDAYEVENT:FALSE
SUMMARY:Chamber Membership First Meeting
DESCRIPTION:Chair: Evelyn Rodriguez\, Glen Ellyn Bank & Trust\n\n\n\nThis committee welcomes and mentors our newest members\, helping them to take advantage of the many benefits offered by the Chamber.  Not surprisingly\, we often find that our newer members are the very ones who enjoy participating in this role. This committee meets monthly.
X-ALT-DESC;FMTTYPE=text/html:<span style="color: rgb(68\, 68\, 68)\; font-family: Arial\, Helvetica\, sans-serif\; font-size: 16px\;">Chair: Evelyn&nbsp\;</span><span style="color: rgb(85\, 85\, 85)\; font-family: Montserrat\, sans-serif\; font-size: 16px\;">Rodriguez\, Glen Ellyn Bank &amp\; Trust</span><br />\n<br />\n<span style="color: rgb(68\, 68\, 68)\; font-family: Arial\, Helvetica\, sans-serif\; font-size: 16px\;">This committee welcomes and mentors our newest members\, helping them to take advantage of the many benefits offered by the Chamber.&nbsp\; Not surprisingly\, we often find that our newer members are the very ones who enjoy participating in this role. This committee meets monthly.</span><br />\n<span style="font-size:14px\;">&nbsp\;</span><br />\n&nbsp\;
LOCATION:Virtual Meeting via Zoom
UID:e.1124.9733
SEQUENCE:3
DTSTAMP:20260421T094126Z
URL:https://business.glenellynchamber.com/events/details/chamber-membership-first-meeting-02-25-2021-9733
END:VEVENT

END:VCALENDAR
