BEGIN:VCALENDAR
VERSION:2.0
PRODID:-//ChamberMaster//Event Calendar 2.0//EN
METHOD:PUBLISH
X-PUBLISHED-TTL:P3D
REFRESH-INTERVAL:P3D
CALSCALE:GREGORIAN
BEGIN:VEVENT
DTSTART:20201022T133000Z
DTEND:20201022T143000Z
X-MICROSOFT-CDO-ALLDAYEVENT:FALSE
SUMMARY:Chamber Membership First Meeting
DESCRIPTION:This committee welcomes and mentors our newest members\, helping them to take advantage of the many benefits offered by the Chamber.  Not surprisingly\, we often find that our newer members are the very ones who enjoy participating in this role. This committee meets monthly.
X-ALT-DESC;FMTTYPE=text/html:<span style="color: rgb(68\, 68\, 68)\; font-family: Arial\, Helvetica\, sans-serif\; font-size: 16px\;">This committee welcomes and mentors our newest members\, helping them to take advantage of the many benefits offered by the Chamber.&nbsp\; Not surprisingly\, we often find that our newer members are the very ones who enjoy participating in this role. This committee meets monthly.</span><br />\n<span style="font-size:14px\;">&nbsp\;</span><br />\n&nbsp\;
LOCATION:Glen Ellyn Bank & Trust Lower Level Conference Room 357 Roosevelt Road Glen Ellyn\, IL 60137
UID:e.1124.9729
SEQUENCE:3
DTSTAMP:20260421T151040Z
URL:https://business.glenellynchamber.com/events/details/chamber-membership-first-meeting-10-22-2020-9729
END:VEVENT

END:VCALENDAR
