BEGIN:VCALENDAR
VERSION:2.0
PRODID:-//ChamberMaster//Event Calendar 2.0//EN
METHOD:PUBLISH
X-PUBLISHED-TTL:P3D
REFRESH-INTERVAL:P3D
CALSCALE:GREGORIAN
BEGIN:VEVENT
DTSTART;VALUE=DATE:20201126
DTEND;VALUE=DATE:20201127
TRANSP:TRANSPARENT
X-MICROSOFT-CDO-ALLDAYEVENT:TRUE
SUMMARY:Chamber Office Closed
DESCRIPTION:The Chamber Office is Closed in Observance of Thanksgiving
X-ALT-DESC;FMTTYPE=text/html:<span style="font-size:16px\;">The Chamber Office is <strong>Closed</strong> in Observance of Thanksgiving</span>
LOCATION:
UID:e.1124.9875
SEQUENCE:3
DTSTAMP:20260421T133245Z
URL:https://business.glenellynchamber.com/events/details/chamber-office-closed-9875
END:VEVENT

END:VCALENDAR
