BEGIN:VCALENDAR
VERSION:2.0
PRODID:-//ChamberMaster//Event Calendar 2.0//EN
METHOD:PUBLISH
X-PUBLISHED-TTL:P3D
REFRESH-INTERVAL:P3D
CALSCALE:GREGORIAN
BEGIN:VEVENT
DTSTART;VALUE=DATE:20201012
DTEND;VALUE=DATE:20201013
TRANSP:TRANSPARENT
X-MICROSOFT-CDO-ALLDAYEVENT:TRUE
SUMMARY:Chamber Office Closed for Holiday
DESCRIPTION:Our Chamber office is CLOSED October 12 in observance of Columbus Day.
X-ALT-DESC;FMTTYPE=text/html:Our Chamber office is <strong>CLOSED</strong> October 12 in observance of Columbus Day.
LOCATION:
UID:e.1124.9858
SEQUENCE:3
DTSTAMP:20260421T164451Z
URL:https://business.glenellynchamber.com/events/details/chamber-office-closed-for-holiday-9858
END:VEVENT

END:VCALENDAR
