BEGIN:VCALENDAR
VERSION:2.0
PRODID:-//ChamberMaster//Event Calendar 2.0//EN
METHOD:PUBLISH
X-PUBLISHED-TTL:P3D
REFRESH-INTERVAL:P3D
CALSCALE:GREGORIAN
BEGIN:VEVENT
DTSTART;VALUE=DATE:20201224
DTEND;VALUE=DATE:20201225
TRANSP:TRANSPARENT
X-MICROSOFT-CDO-ALLDAYEVENT:TRUE
SUMMARY:Chamber Office Closes at Noon
DESCRIPTION:Chamber Office is Closed starting at NOON on December 24 through January 1.\n\n\n\nOur in person hours will resume on January 5\n\nTuesday & Thursday 9am - 4pm
X-ALT-DESC;FMTTYPE=text/html:Chamber Office is <strong>Closed </strong>starting at NOON on December 24 through January 1.<br />\n<br />\nOur in person hours will resume on January 5<br />\nTuesday &amp\; Thursday 9am - 4pm<br />\n&nbsp\;
LOCATION:
UID:e.1124.9897
SEQUENCE:3
DTSTAMP:20260421T133112Z
URL:https://business.glenellynchamber.com/events/details/chamber-office-closes-at-noon-9897
END:VEVENT

END:VCALENDAR
