BEGIN:VCALENDAR
VERSION:2.0
PRODID:-//ChamberMaster//Event Calendar 2.0//EN
METHOD:PUBLISH
X-PUBLISHED-TTL:P3D
REFRESH-INTERVAL:P3D
CALSCALE:GREGORIAN
BEGIN:VEVENT
DTSTART:20210330T153000Z
DTEND:20210330T163000Z
X-MICROSOFT-CDO-ALLDAYEVENT:FALSE
SUMMARY:Dealing with Lenders: From Negotiation to Documentation
DESCRIPTION:This webinar will discuss commercial loans from a lender's perspective and the different concessions that a lender can make in order to get a loan deal. In particular\, we will discuss what lenders look for in potential borrowers\, some of the different "levers" that lenders can use to make a deal workable for all parties\, and loan documentation clauses that lenders will and will not agree to change. Join Michael Cortina\, co-chair of SmithAmundsen's Financial Services Group\, for this information and timely presentation!
X-ALT-DESC;FMTTYPE=text/html:This webinar will discuss commercial loans from a lender&rsquo\;s perspective and the different concessions that a lender can make in order to get a loan deal. In particular\, we will discuss what lenders look for in potential borrowers\, some of the different &ldquo\;levers&rdquo\; that lenders can use to make a deal workable for all parties\, and loan documentation clauses that lenders will and will not agree to change. Join Michael Cortina\, co-chair of SmithAmundsen&rsquo\;s Financial Services Group\, for this information and timely presentation!
LOCATION:Webinar
UID:e.1124.9949
SEQUENCE:3
DTSTAMP:20260421T093707Z
URL:https://business.glenellynchamber.com/events/details/dealing-with-lenders-from-negotiation-to-documentation-9949
END:VEVENT

END:VCALENDAR
