BEGIN:VCALENDAR
VERSION:2.0
PRODID:-//ChamberMaster//Event Calendar 2.0//EN
METHOD:PUBLISH
X-PUBLISHED-TTL:P3D
REFRESH-INTERVAL:P3D
CALSCALE:GREGORIAN
BEGIN:VEVENT
DTSTART:20220406T153000Z
DTEND:20220406T170000Z
X-MICROSOFT-CDO-ALLDAYEVENT:FALSE
SUMMARY:Defending Unemployment Insurance Claims in 2022 and Beyond
DESCRIPTION:In the current economy\, it is more important than ever for employers to understand what unemployment insurance benefits are available to former employees\, what actions can disqualify a former employee from receiving these benefits and how to navigate through an unemployment insurance claim once it is filed. This presentation discusses the best practices and what preventive measures employers can take to avoid unemployment insurance complications. Plan to join Scott Cruz\, Labor and Employment Attorney\, Greensfelder Hemker & Gale for this timely presentation!
X-ALT-DESC;FMTTYPE=text/html:In the current economy\, it is more important than ever for employers to understand what unemployment insurance benefits are available to former employees\, what actions can disqualify a former employee from receiving these benefits and how to navigate through an unemployment insurance claim once it is filed. This presentation discusses the best practices and what preventive measures employers can take to avoid unemployment insurance complications. Plan to join Scott Cruz\, Labor and Employment Attorney\, Greensfelder Hemker &amp\; Gale for this timely presentation!
LOCATION:Webinar
UID:e.1124.10170
SEQUENCE:3
DTSTAMP:20260421T151248Z
URL:https://business.glenellynchamber.com/events/details/defending-unemployment-insurance-claims-in-2022-and-beyond-10170
END:VEVENT

END:VCALENDAR
