BEGIN:VCALENDAR
VERSION:2.0
PRODID:-//ChamberMaster//Event Calendar 2.0//EN
METHOD:PUBLISH
X-PUBLISHED-TTL:P3D
REFRESH-INTERVAL:P3D
CALSCALE:GREGORIAN
BEGIN:VEVENT
DTSTART:20201001T000000Z
DTEND:20201001T010000Z
X-MICROSOFT-CDO-ALLDAYEVENT:FALSE
SUMMARY:DuPage District 4 Virtual Candidate Forums for County Board and Forest Preserve Sept 30th 7pm-8pm
DESCRIPTION:Join the League of Women Voters of Glen Ellyn in a double feature forum for DuPage District 4 candidates for the County Board and the Forest Preserve. The first 30 minutes will feature Tim Elliott and Lynn LaPlante\, candidates for DuPage County Board District 4. At 7:30 we will hear from Jeff Gahris and Tim Whelan\, candidates for the Forest Preserve\, District 4.\n\n\n\nRegister at www.lwvge.org/events\n\n\n\nThe forums will be moderated by Barbara Yong\, LWV of LaGrange Area\, and constituents will hear directly from all candidates on the ballot. The goal of non-partisan candidate forums is for voters to gain an understanding of the candidates' views in preparation for casting your ballot.\n\nKnow your ballot\, be informed\, and vote!\n\nNote: Capacity is limited. The event will be recorded and available for later viewing.
X-ALT-DESC;FMTTYPE=text/html:<h1>Join the League of Women Voters of Glen Ellyn in a double feature forum for DuPage District 4 candidates for the County Board and the Forest Preserve. The first 30 minutes will feature Tim Elliott and Lynn LaPlante\, candidates for DuPage County Board District 4. At 7:30 we will hear from Jeff Gahris and Tim Whelan\, candidates for the Forest Preserve\, District 4.<br />\n<br />\nRegister at www.lwvge.org/events<br />\n<br />\nThe forums will be moderated by Barbara Yong\, LWV of LaGrange Area\, and constituents will hear directly from all candidates on the ballot. The goal of non-partisan candidate forums is for voters to gain an understanding of the candidates&#39\; views in preparation for casting your ballot.</h1>\n\n<h1>Know your ballot\, be informed\, and vote!</h1>\n\n<h1>Note: Capacity is limited. The event will be recorded and available for later viewing.</h1>\n
LOCATION:
UID:e.1124.9851
SEQUENCE:3
DTSTAMP:20260425T141500Z
URL:https://business.glenellynchamber.com/events/details/dupage-district-4-virtual-candidate-forums-for-county-board-and-forest-preserve-sept-30th-7pm-8pm-9851
END:VEVENT

END:VCALENDAR
