BEGIN:VCALENDAR
VERSION:2.0
PRODID:-//ChamberMaster//Event Calendar 2.0//EN
METHOD:PUBLISH
X-PUBLISHED-TTL:P3D
REFRESH-INTERVAL:P3D
CALSCALE:GREGORIAN
BEGIN:VEVENT
DTSTART:20220917T143000Z
DTEND:20220917T190000Z
X-MICROSOFT-CDO-ALLDAYEVENT:FALSE
SUMMARY:DuPagePads Walk 4 Home
DESCRIPTION:Lace-up and help strengthen others on the path to end homelessness! Join DuPagePads and fellow supporters on Saturday\, September 17th to complete your 2-mile walk at College of DuPage. Enjoy all the beauty the College of DuPage campus offers with a walk around the campus. After the walk\, stay for College of DuPage's Chaparral Family Day with activities for the whole family\, food vendors\, and the football game! Additional information is available at: https://dupagepads.org/walk-4-home-2022/
X-ALT-DESC;FMTTYPE=text/html:Lace-up and help strengthen others on the path to end homelessness! Join DuPagePads and fellow supporters on Saturday\, September 17th to complete your 2-mile walk at College of DuPage. Enjoy all the beauty the College of DuPage campus offers with a walk around the campus. After the walk\, stay for College of DuPage&rsquo\;s Chaparral Family Day with activities for the whole family\, food vendors\, and the football game! Additional information is available at: https://dupagepads.org/walk-4-home-2022/
LOCATION:College of DuPage\, Chaparral Football Stadium
UID:e.1124.10262
SEQUENCE:3
DTSTAMP:20260421T094041Z
URL:https://business.glenellynchamber.com/events/details/dupagepads-walk-4-home-10262
END:VEVENT

END:VCALENDAR
