BEGIN:VCALENDAR
VERSION:2.0
PRODID:-//ChamberMaster//Event Calendar 2.0//EN
METHOD:PUBLISH
X-PUBLISHED-TTL:P3D
REFRESH-INTERVAL:P3D
CALSCALE:GREGORIAN
BEGIN:VEVENT
DTSTART;VALUE=DATE:20220604
DTEND;VALUE=DATE:20220605
TRANSP:TRANSPARENT
X-MICROSOFT-CDO-ALLDAYEVENT:TRUE
SUMMARY:Eighth Annual Glen Ellyn Vintage Auto Fest
DESCRIPTION:The 8th Annual Glen Ellyn Vintage Auto Fest is Saturday\, June 4\, from 10:00 AM to 3:00 PM. The location is Historic Stacy's Corners\, 800 N. Main Street\, Glen Ellyn. Great vintage vehicles are on display over all the space between Stacy's Tavern Museum and the Glen Ellyn History Center. Lunch is furnished by Heavenly Hot Dogs between 11:00 AM and 2:00 PM. Free talks on historic autos are going to be given in the Glen Ellyn History Center throughout the Fest. Author P.J. HarteNaus is signing books in the lobby. Stacy's Tavern Museum is open for tours and Stacy's Corner Store is holding a sidewalk sale. Free Event - call 630-469-1867 and check www.director@gehs.org.
X-ALT-DESC;FMTTYPE=text/html:The 8th Annual Glen Ellyn Vintage Auto Fest is Saturday\, June 4\, from 10:00 AM to 3:00 PM. The location is Historic Stacy&#39\;s Corners\, 800 N. Main Street\, Glen Ellyn. Great vintage vehicles are on display over all the space between Stacy&#39\;s Tavern Museum and the Glen Ellyn History Center. Lunch is furnished by Heavenly Hot Dogs between 11:00 AM and 2:00 PM. Free talks on historic autos are going to be given in the Glen Ellyn History Center throughout the Fest. Author P.J. HarteNaus is signing books in the lobby. Stacy&#39\;s Tavern Museum is open for tours and Stacy&#39\;s Corner Store is holding a sidewalk sale. Free Event - call 630-469-1867 and check www.director@gehs.org.
LOCATION:Historic Stacy's Corners 800N. Main Street Glen Ellyn\, IL 60137
UID:e.1124.10254
SEQUENCE:3
DTSTAMP:20260421T110205Z
URL:https://business.glenellynchamber.com/events/details/eighth-annual-glen-ellyn-vintage-auto-fest-10254
END:VEVENT

END:VCALENDAR
