BEGIN:VCALENDAR
VERSION:2.0
PRODID:-//ChamberMaster//Event Calendar 2.0//EN
METHOD:PUBLISH
X-PUBLISHED-TTL:P3D
REFRESH-INTERVAL:P3D
CALSCALE:GREGORIAN
BEGIN:VEVENT
DTSTART:20201021T150000Z
DTEND:20201025T220000Z
X-MICROSOFT-CDO-ALLDAYEVENT:FALSE
SUMMARY:Fair Trade Rug Event
DESCRIPTION:Come explore over 300 stunning Tribal\, Bokhara and Persian rugs. Classic to Contemporary- all handmade by men & women who earn a fair and equal income. Quality you desire Fairness artisans deserve.
X-ALT-DESC;FMTTYPE=text/html:Come explore over 300 stunning Tribal\, Bokhara and Persian rugs. Classic to Contemporary- all handmade by men &amp\; women who earn a fair and equal income. Quality you desire Fairness artisans deserve.
LOCATION:Ten Thousand Villages 503 Pennsylvania Ave Glen Ellyn
UID:e.1124.9857
SEQUENCE:3
DTSTAMP:20260421T164721Z
URL:https://business.glenellynchamber.com/events/details/fair-trade-rug-event-10-21-2020-9857
END:VEVENT

END:VCALENDAR
