BEGIN:VCALENDAR
VERSION:2.0
PRODID:-//ChamberMaster//Event Calendar 2.0//EN
METHOD:PUBLISH
X-PUBLISHED-TTL:P3D
REFRESH-INTERVAL:P3D
CALSCALE:GREGORIAN
BEGIN:VEVENT
DTSTART:20220526T000000Z
DTEND:20220526T020000Z
X-MICROSOFT-CDO-ALLDAYEVENT:FALSE
SUMMARY:Film: Inhabitants: Indigenous Perspectives on Restoring our World
DESCRIPTION:The showing of "Inhabitants: Indigenous Perspectives on Restoring World" on Wed. May 25 at 7:00 PM in the Glen Ellyn History Center\, 800 N. Main Street is a cooperative venture with The Sierra Club River Prairie Group and The Prairie Food Co-op.This award-winning film follows five Native American tribes across deserts\, coastlines\, forest and prairies as they restore their traditional land management practices. The discussion afterward is featuring Joseph Standing Bear\, the President of the Midwest SOARING Foundation. This movie is FREE and refreshments are provided. Call 630-469-1867 and go to www.gehs.org.
X-ALT-DESC;FMTTYPE=text/html:The showing of &quot\;Inhabitants: Indigenous Perspectives on Restoring World&quot\; on Wed. May 25 at 7:00 PM in the Glen Ellyn History Center\, 800 N. Main Street is a cooperative venture with The Sierra Club River Prairie Group and The Prairie Food Co-op.This award-winning film follows five Native American tribes across deserts\, coastlines\, forest and prairies as they restore their traditional land management practices. The discussion afterward is featuring Joseph Standing Bear\, the President of the Midwest SOARING Foundation. This movie is FREE and refreshments are provided. Call 630-469-1867 and go to www.gehs.org.
LOCATION:Glen Ellyn History Center
UID:e.1124.10253
SEQUENCE:3
DTSTAMP:20260421T140450Z
URL:https://business.glenellynchamber.com/events/details/film-inhabitants-indigenous-perspectives-on-restoring-our-world-10253
END:VEVENT

END:VCALENDAR
