BEGIN:VCALENDAR
VERSION:2.0
PRODID:-//ChamberMaster//Event Calendar 2.0//EN
METHOD:PUBLISH
X-PUBLISHED-TTL:P3D
REFRESH-INTERVAL:P3D
CALSCALE:GREGORIAN
BEGIN:VEVENT
DTSTART:20220419T143000Z
DTEND:20220419T173000Z
X-MICROSOFT-CDO-ALLDAYEVENT:FALSE
SUMMARY:Finding and Retaining Employees
DESCRIPTION:The working environment has changed. Now more than ever\, businesses are experiencing difficulty in finding and keeping new employees\, as well as retaining current employees. This presentation will offer suggestions for recruiting employees\, hiring the right person\, making certain they are onboarded successfully and making them an integral part of the team. Elaine Hand\, Owner of Innerview Inc\, will discuss how to retain your current staff and keep them engaged. Which may be the missing piece over the last few years!
X-ALT-DESC;FMTTYPE=text/html:The working environment has changed. Now more than ever\, businesses are experiencing difficulty in finding and keeping new employees\, as well as retaining current employees. This presentation will offer suggestions for recruiting employees\, hiring the right person\, making certain they are onboarded successfully and making them an integral part of the team. Elaine Hand\, Owner of Innerview Inc\, will discuss how to retain your current staff and keep them engaged. Which may be the missing piece over the last few years!
LOCATION:NIU Center Room 166 1120 E. Diehl Road Naperville\, IL 60563
UID:e.1124.10218
SEQUENCE:3
DTSTAMP:20260421T150847Z
URL:https://business.glenellynchamber.com/events/details/finding-and-retaining-employees-10218
END:VEVENT

END:VCALENDAR
