BEGIN:VCALENDAR
VERSION:2.0
PRODID:-//ChamberMaster//Event Calendar 2.0//EN
METHOD:PUBLISH
X-PUBLISHED-TTL:P3D
REFRESH-INTERVAL:P3D
CALSCALE:GREGORIAN
BEGIN:VEVENT
DTSTART:20201121T170000Z
DTEND:20201121T180000Z
X-MICROSOFT-CDO-ALLDAYEVENT:FALSE
SUMMARY:Fitness Open House
DESCRIPTION:Don't miss the Park District's Fitness Open House at Ackerman SFC on Saturday\, November 21st. Enjoy free group fitness sampler classes (come dressed to work out)\, free youth fitness/sports classes\, giveaways\, special offers\, and more. While you're there\, take the opportunity to meet with their certified personal trainers and tour of the facility. The Fitness Open House is free and open to the public (no registration required). Plus\, all families that attend will be entered into a raffle to win a $50 Glen Ellyn Park District gift certificate!\n\n\n\nFor more information: Visit ackermansfc.com/openhouse
X-ALT-DESC;FMTTYPE=text/html:Don&rsquo\;t miss the Park District&rsquo\;s Fitness Open House at Ackerman SFC on Saturday\, November 21st. Enjoy free group fitness sampler classes (come dressed to work out)\, free youth fitness/sports classes\, giveaways\, special offers\, and more. While you&rsquo\;re there\, take the opportunity to meet with their certified personal trainers and tour of the facility. The Fitness Open House is free and open to the public (no registration required). Plus\, all families that attend will be entered into a raffle to win a $50 Glen Ellyn Park District gift certificate!<br />\n<br />\n<strong>For more information:</strong> Visit ackermansfc.com/openhouse
LOCATION:Ackerman Sports & Fitness Center 800 St. Charles Road Glen Ellyn
UID:e.1124.9867
SEQUENCE:3
DTSTAMP:20260421T135759Z
URL:https://business.glenellynchamber.com/events/details/fitness-open-house-9867
END:VEVENT

END:VCALENDAR
