BEGIN:VCALENDAR
VERSION:2.0
PRODID:-//ChamberMaster//Event Calendar 2.0//EN
METHOD:PUBLISH
X-PUBLISHED-TTL:P3D
REFRESH-INTERVAL:P3D
CALSCALE:GREGORIAN
BEGIN:VEVENT
DTSTART:20210323T153000Z
DTEND:20210323T170000Z
X-MICROSOFT-CDO-ALLDAYEVENT:FALSE
SUMMARY:Gearing up for President Biden’s Emergency COVID-19 Workplace Rules
DESCRIPTION:A practical discussion on the new OSHA and COVID-19 related guidance and/or standards\nissued by the Biden Administration and the steps that employers should be taking to\ncomply.\nJoin Labor and Employment Attorneys\, Matthew Horn and Jeffrey Risch with\nSmithAmundsen LLC for this timely and informative webinar!
X-ALT-DESC;FMTTYPE=text/html:A practical discussion on the new OSHA and COVID-19 related guidance and/or standards\nissued by the Biden Administration and the steps that employers should be taking to\ncomply.\nJoin Labor and Employment Attorneys\, Matthew Horn and Jeffrey Risch with\nSmithAmundsen LLC for this timely and informative webinar!
LOCATION:Webinar
UID:e.1124.9943
SEQUENCE:3
DTSTAMP:20260421T094410Z
URL:https://business.glenellynchamber.com/events/details/gearing-up-for-president-biden-s-emergency-covid-19-workplace-rules-9943
END:VEVENT

END:VCALENDAR
