BEGIN:VCALENDAR
VERSION:2.0
PRODID:-//ChamberMaster//Event Calendar 2.0//EN
METHOD:PUBLISH
X-PUBLISHED-TTL:P3D
REFRESH-INTERVAL:P3D
CALSCALE:GREGORIAN
BEGIN:VEVENT
DTSTART:20260414T140000Z
DTEND:20260414T151500Z
X-MICROSOFT-CDO-ALLDAYEVENT:FALSE
SUMMARY:Glen Ellyn Chamber Member Meeting April 2026
DESCRIPTION:Please join the Glen Ellyn Chamber of Commerce for our April Member Breakfast Meeting hosted at Glen Ellyn Public Library.   \n\n \n\nOur guest speaker will be Jerry Peterson\, founder of Right Side Inc who will be presenting on AI.  The topics covered include:\n\n	A brief introduction to the types of AI \n\n\n\n	A description of the business problem most SMB are struggling with\n\n\n\n	A method to help a business to see where changes should be made first\n\n\n\n	A plan for improving productivity in an organization\n\n\n\n	Demonstration of an AI Voice Agent\n\n\n\n	Discussion on how AI can act as a force multiplier\n\n\n\n	Q&A\n\n\nThis meeting is in collaboration with the Glen Ellyn Public Library and open to the Public.  Light snacks and water will be provided.
X-ALT-DESC;FMTTYPE=text/html:Please join the Glen Ellyn Chamber of Commerce for our April Member Breakfast Meeting hosted at Glen Ellyn Public Library.&nbsp\; &nbsp\;<br />\n<span style="font-family:arial\,sans-serif\;">&#8203\;</span><br />\nOur guest speaker will be Jerry Peterson\, founder of <a href="https://www.uofproductivity.com/">Right Side Inc</a>&nbsp\;who will be presenting on AI.&nbsp\; The topics covered include:\n<ol>\n	<li style="color:black\;">A brief introduction to the types of AI&nbsp\;</li>\n</ol>\n\n<ol>\n	<li style="color:black\;" value="2">A description of the business problem most SMB are struggling with</li>\n</ol>\n\n<ol>\n	<li style="color:black\;" value="3">A method to help a business to see where changes should be made first</li>\n</ol>\n\n<ol>\n	<li style="color:black\;" value="4">A plan for improving productivity in an organization</li>\n</ol>\n\n<ol>\n	<li style="color:black\;" value="5">Demonstration of an AI Voice Agent</li>\n</ol>\n\n<ol>\n	<li style="color:black\;" value="6">Discussion on how AI can act as a force multiplier</li>\n</ol>\n\n<ol>\n	<li style="color:black\;" value="7">Q&amp\;A</li>\n</ol>\n\n<div style="color:black\;">This meeting is in collaboration with the Glen Ellyn Public Library and open to the Public.&nbsp\; Light snacks and water will be provided.</div>\n
LOCATION:Glen Ellyn Public Library 400 Duane Street\, 2nd Floor Glen Ellyn\, IL 60137
UID:e.1124.17527
SEQUENCE:3
DTSTAMP:20260421T044923Z
URL:https://business.glenellynchamber.com/events/details/glen-ellyn-chamber-member-meeting-april-2026-17527
END:VEVENT

END:VCALENDAR
