BEGIN:VCALENDAR
VERSION:2.0
PRODID:-//ChamberMaster//Event Calendar 2.0//EN
METHOD:PUBLISH
X-PUBLISHED-TTL:P3D
REFRESH-INTERVAL:P3D
CALSCALE:GREGORIAN
BEGIN:VEVENT
DTSTART:20211109T173000Z
DTEND:20211109T190000Z
X-MICROSOFT-CDO-ALLDAYEVENT:FALSE
SUMMARY:Glen Ellyn Chamber Monthly Meeting
DESCRIPTION:Annual Election of Officers & Presentation  \nJoin us for the Annual Election of the 2022 Glen Ellyn Chamber Board of Directors followed by a presentation from the Glen Ellyn Police Department \n\n\n\nCatered By: Santa Fe\n\nTwo Tacos Meal
X-ALT-DESC;FMTTYPE=text/html:<h1 style="margin-top: 0in\; text-align: center\;"><br />\n<span style="font-family:arial\;"><span style="color:#000000\;"><strong><span style="font-size:16.0pt\;">Annual Election of Officers&nbsp\;</span></strong></span><span style="color:#000000\;"><strong><span style="font-size:16.0pt\;">&amp\; Presentation&nbsp\;&nbsp\;</span></strong></span></span></h1>\n<span style="color: rgb(35\, 78\, 35)\; font-family: &quot\;Open Sans&quot\;\, sans-serif\; font-size: 14px\; white-space: pre-wrap\;">Join us for the Annual Election of the 2022 Glen Ellyn Chamber Board of Directors followed by a presentation from the Glen Ellyn Police Department </span><br />\n<br />\nCatered By:&nbsp\;Santa Fe<br />\nTwo Tacos Meal<br />\n<br />\n&nbsp\;
LOCATION:Glen Ellyn Police Department Community Room 65 S. Park Blvd.\, Glen Ellyn
UID:e.1124.10027
SEQUENCE:3
DTSTAMP:20260424T141920Z
URL:https://business.glenellynchamber.com/events/details/glen-ellyn-chamber-monthly-meeting-10027
END:VEVENT

END:VCALENDAR
