BEGIN:VCALENDAR
VERSION:2.0
PRODID:-//ChamberMaster//Event Calendar 2.0//EN
METHOD:PUBLISH
X-PUBLISHED-TTL:P3D
REFRESH-INTERVAL:P3D
CALSCALE:GREGORIAN
BEGIN:VEVENT
DTSTART:20201013T163000Z
DTEND:20201013T180000Z
X-MICROSOFT-CDO-ALLDAYEVENT:FALSE
SUMMARY:Glen Ellyn Chamber Monthly Meeting
DESCRIPTION:WHY STARTUPS ARE MORE VITAL TO THE ECONOMY THAN EVER\n\nPresenter: Travis Linderman\, Managing Director of Innovation DuPage\n\n \n\nJoin Travis in a conversation about how startups can assist DuPage County in diversifying the local economy and driving business to service industries\, restaurants and stores. Support of startup growth can attract new residents\, corporate sponsors\, angel investment and national press to the Glen Ellyn area. Existing models show how startup communities have helped even the most economically damaged regions spring back to life with greater vitality and programs that help them grow.\n\n\n\nTravis Linderman has served as director for three venture incubators prior to his selection as Managing Director of Innovation DuPage. He founded a startup with Princeton University\, secured venture capital backing\, scaled rapidly and enjoyed a successful IP acquisition. Travis has spearheaded capital campaigns that have raised over $600 million for technology development.\n\n\n\nInnovation DuPage (ID) is a Non-profit venture that unites entrepreneurs and small business owners with the people\, resources\, programs that help them grow. We connect our members with vetted mentors who can help establish a strong foundation as they rapidly scale. We are a place to belong\, offering workshops and inclusive co-working. We are a community\, a place to try new things and build on your ideas.\n\n\n\nPlease arrive with mask. Seating will be socially distant outside under a tent with heaters. Reserve now\, as we sold out last month. \n\n\n\nMENU:\n\nCobb Salad - Romaine\, egg\, blue cheese\, bacon\, avocado\, tomatoes\, chicken breast\, with buttermilk dressing.\n\n \n\nReserve 22 Burger - 8 oz black angus (cooked medium) on brioche bun\, with lettuce tomato and onion served with cole slaw and fries.\n\n \n\nCrispy Chicken Sandwich - Panko crusted chicken breast\, bacon\, green onion thyme cream cheese\, lettuce and tomato on a parmesan crusted baguette served with coleslaw and fries.
X-ALT-DESC;FMTTYPE=text/html:<div style="text-align: center\;"><span style="font-size:14px\;"><span style="font-family:arial\;"><strong>WHY STARTUPS ARE MORE VITAL TO THE ECONOMY THAN EVER</strong><br />\n<strong>Presenter: Travis Linderman\, Managing Director of Innovation DuPage</strong></span></span><br />\n&nbsp\;</div>\n\n<div><span style="font-size:14px\;"><span style="font-family:arial\;">Join Travis in a conversation about how startups can assist DuPage County in diversifying the local economy and driving business to service industries\, restaurants and stores. Support of startup growth can attract new residents\, corporate sponsors\, angel investment and national press to the Glen Ellyn area. Existing models show how startup communities have helped even the most economically damaged regions spring back to life with greater vitality and programs that help them grow.<br />\n<br />\nTravis Linderman has served as director for three venture incubators prior to his selection as Managing Director of Innovation DuPage. He founded a startup with Princeton University\, secured venture capital backing\, scaled rapidly and enjoyed a successful IP acquisition. Travis has spearheaded capital campaigns that have raised over $600 million for technology development.<br />\n<br />\nInnovation DuPage (ID) is a Non-profit venture that unites entrepreneurs and small business owners with the people\, resources\, programs that help them grow. We connect our members with vetted mentors who can help establish a strong foundation as they rapidly scale. We are a place to belong\, offering workshops and inclusive co-working. We are a community\, a place to try new things and build on your ideas.<br />\n<br />\nPlease arrive with mask. Seating will be socially distant outside under a tent with heaters. Reserve now\, as we sold out last month.&nbsp\;<br />\n<br />\n<u><strong>MENU:</strong></u></span></span>\n\n<div style="color: rgb(0\, 0\, 0)\; font-family: &quot\;Open Sans&quot\;\, sans-serif\; font-size: 14px\; white-space: pre-wrap\;"><span style="font-size:14px\;"><span style="font-family:arial\;"><span style="font-weight: bold\;">Cobb Salad</span> - Romaine\, egg\, blue cheese\, bacon\, avocado\, tomatoes\, chicken breast\, with buttermilk dressing.</span></span></div>\n\n<div style="color: rgb(0\, 0\, 0)\; font-family: &quot\;Open Sans&quot\;\, sans-serif\; font-size: 14px\; white-space: pre-wrap\;">&nbsp\;</div>\n\n<div style="color: rgb(0\, 0\, 0)\; font-family: &quot\;Open Sans&quot\;\, sans-serif\; font-size: 14px\; white-space: pre-wrap\;"><span style="font-size:14px\;"><span style="font-family:arial\;"><span style="font-weight: bold\;">Reserve 22 Burger</span> - 8 oz black angus (cooked medium) on brioche bun\, with lettuce tomato and onion served with cole slaw and fries.</span></span></div>\n\n<div style="color: rgb(0\, 0\, 0)\; font-family: &quot\;Open Sans&quot\;\, sans-serif\; font-size: 14px\; white-space: pre-wrap\;">&nbsp\;</div>\n\n<div style="color: rgb(0\, 0\, 0)\; font-family: &quot\;Open Sans&quot\;\, sans-serif\; font-size: 14px\; white-space: pre-wrap\;"><span style="font-size:14px\;"><span style="font-family:arial\;"><span style="font-weight: bold\;">Crispy Chicken Sandwich</span> - Panko crusted chicken breast\, bacon\, green onion thyme cream cheese\, lettuce and tomato on a parmesan crusted baguette served with coleslaw and fries.</span></span></div>\n</div>\n
LOCATION:Reserve 22 485 Winchell Way Outdoors seating under a tent with heaters
UID:e.1124.9465
SEQUENCE:3
DTSTAMP:20260421T164736Z
URL:https://business.glenellynchamber.com/events/details/glen-ellyn-chamber-monthly-meeting-9465
END:VEVENT

END:VCALENDAR
