BEGIN:VCALENDAR
VERSION:2.0
PRODID:-//ChamberMaster//Event Calendar 2.0//EN
METHOD:PUBLISH
X-PUBLISHED-TTL:P3D
REFRESH-INTERVAL:P3D
CALSCALE:GREGORIAN
BEGIN:VEVENT
DTSTART:20200310T133000Z
DTEND:20200310T143000Z
X-MICROSOFT-CDO-ALLDAYEVENT:FALSE
SUMMARY:Glen Ellyn Chamber Monthly Meeting
DESCRIPTION:Human Resources Law Seminar\n\nPresented by: \n\nRick Lofgren from The Law Office of Lofgren & Wentworth\n\nand Leslie Day of Precision Payroll of America\n\n\nBIG CHANGES IN ILLINOIS LAW REGARDING \n\nSEX AND DRUGS IN THE WORKPLACE\n\n \n\nLearn of the recent changes to: \n\nIllinois Human Rights Act\,\n\nThe adoption of the Workplace Transparency Act\, \n\nThe Cannabis Regulation and \n\nTax Act as it relates to employers
X-ALT-DESC;FMTTYPE=text/html:<div style="text-align: center\;"><br />\n<span style="color:#000000\;"><span style="font-size:14px\;"><span style="font-family:arial\;"><span style="font-size:16px\;"><strong>Human Resources Law Seminar</strong></span></span></span></span><br />\n<strong><span style="background:white\;"><span style="color:black\;"><span style="font-size:12.0pt\;">Presented by:&nbsp\;<br />\nRick Lofgren from The Law Office of Lofgren &amp\; Wentworth<br />\nand Leslie Day of Precision Payroll of America</span></span></span></strong>\n<div style="font-family: &quot\;Open Sans&quot\;\, sans-serif\; font-size: 14px\; white-space: pre-wrap\; background-color: rgb(255\, 255\, 255)\; text-align: center\;"><br />\n<span style="font-size: 15px\; font-style: italic\; font-weight: bold\; font-family: &quot\;Times New Roman&quot\;\, Times\, serif\;">BIG CHANGES IN ILLINOIS LAW REGARDING </span></div>\n\n<div style="font-family: &quot\;Open Sans&quot\;\, sans-serif\; font-size: 14px\; white-space: pre-wrap\; background-color: rgb(255\, 255\, 255)\; text-align: center\;"><span style="font-size: 15px\; font-style: italic\; font-weight: bold\; font-family: &quot\;Times New Roman&quot\;\, Times\, serif\;">SEX AND DRUGS IN THE WORKPLACE</span></div>\n\n<div style="font-family: &quot\;Open Sans&quot\;\, sans-serif\; font-size: 14px\; white-space: pre-wrap\; background-color: rgb(255\, 255\, 255)\; text-align: center\;">&nbsp\;</div>\n\n<div style="font-family: &quot\;Open Sans&quot\;\, sans-serif\; font-size: 14px\; white-space: pre-wrap\; background-color: rgb(255\, 255\, 255)\; text-align: center\;"><span style="font-size: 15px\; font-family: &quot\;Times New Roman&quot\;\, Times\, serif\;">Learn of the recent changes to: </span></div>\n\n<div style="font-family: &quot\;Open Sans&quot\;\, sans-serif\; font-size: 14px\; white-space: pre-wrap\; background-color: rgb(255\, 255\, 255)\; text-align: center\;"><span style="font-size: 15px\; font-family: &quot\;Times New Roman&quot\;\, Times\, serif\;">Illinois Human Rights Act\,</span></div>\n\n<div style="font-family: &quot\;Open Sans&quot\;\, sans-serif\; font-size: 14px\; white-space: pre-wrap\; background-color: rgb(255\, 255\, 255)\; text-align: center\;"><span style="font-size: 15px\; font-family: &quot\;Times New Roman&quot\;\, Times\, serif\;">The adoption of the Workplace Transparency Act\, </span></div>\n\n<div style="font-family: &quot\;Open Sans&quot\;\, sans-serif\; font-size: 14px\; white-space: pre-wrap\; background-color: rgb(255\, 255\, 255)\; text-align: center\;"><span style="font-size: 15px\; font-family: &quot\;Times New Roman&quot\;\, Times\, serif\;">The Cannabis Regulation and </span></div>\n\n<div style="font-family: &quot\;Open Sans&quot\;\, sans-serif\; font-size: 14px\; white-space: pre-wrap\; background-color: rgb(255\, 255\, 255)\; text-align: center\;"><span style="font-size: 15px\; font-family: &quot\;Times New Roman&quot\;\, Times\, serif\;">Tax Act as it relates to employers</span></div>\n</div>\n
LOCATION:Two Hound Red 486 Pennsylvania Ave. Glen Ellyn\, IL 60137
UID:e.1124.9469
SEQUENCE:3
DTSTAMP:20260425T201348Z
URL:https://business.glenellynchamber.com/events/details/glen-ellyn-chamber-monthly-meeting-9469
END:VEVENT

END:VCALENDAR
