BEGIN:VCALENDAR
VERSION:2.0
PRODID:-//ChamberMaster//Event Calendar 2.0//EN
METHOD:PUBLISH
X-PUBLISHED-TTL:P3D
REFRESH-INTERVAL:P3D
CALSCALE:GREGORIAN
BEGIN:VEVENT
DTSTART:20210112T174500Z
DTEND:20210112T190000Z
X-MICROSOFT-CDO-ALLDAYEVENT:FALSE
SUMMARY:Glen Ellyn Chamber Monthly Meeting
DESCRIPTION:Annual Installation of the Board of Directors & Village Updates\n\n \n\n	\n		\n			Join us for our Installation of our Board of Directors for 2021.\n\n			 \n\n			Village Manager Mark Fraz will be providing the latest Village updates for 2021.
X-ALT-DESC;FMTTYPE=text/html:<br />\n<span style="font-size:14px\;"><span style="font-family:arial\;"><span style="font-size:16px\;"><strong>Annual Installation of the&nbsp\;Board of Directors &amp\; Village Updates</strong></span><br />\n&nbsp\;</span></span>\n<table border="0" cellpadding="0" cellspacing="0" style="width:100.0%\;border-collapse:collapse\;" width="100%">\n	<tbody>\n		<tr>\n			<td style="padding:7.5pt 15.0pt 7.5pt 7.5pt\;vertical-align:top\;"><span style="color:black\;"><span style="font-family:arial\,sans-serif\;"><span style="font-size:10.5pt\;">Join us for our Installation of our Board of Directors for 2021.</span></span></span><br />\n			&nbsp\;<br />\n			<span style="color:black\;"><span style="font-family:arial\,sans-serif\;"><span style="font-size:10.5pt\;">Village Manager Mark Fraz will be providing the latest Village updates for 2021.</span></span></span></td>\n		</tr>\n	</tbody>\n</table>\n
LOCATION:Virtual Meeting via Zoom *a link will be emailed 24 hours prior the meeting
UID:e.1124.9894
SEQUENCE:3
DTSTAMP:20260421T121256Z
URL:https://business.glenellynchamber.com/events/details/glen-ellyn-chamber-monthly-meeting-9894
END:VEVENT

END:VCALENDAR
