BEGIN:VCALENDAR
VERSION:2.0
PRODID:-//ChamberMaster//Event Calendar 2.0//EN
METHOD:PUBLISH
X-PUBLISHED-TTL:P3D
REFRESH-INTERVAL:P3D
CALSCALE:GREGORIAN
BEGIN:VEVENT
DTSTART:20201110T174500Z
DTEND:20201110T193000Z
X-MICROSOFT-CDO-ALLDAYEVENT:FALSE
SUMMARY:Glen Ellyn Chamber Virtual Monthly Meeting
DESCRIPTION:Annual Election of Officers & Presentation Provided College of DuPage Business Development Center\n \n\nProgram:The Change is Here to Stay\n\n\n\nThe presentation will explain the services of the Business Development Center\, the seven elementary changes derived from the recent pandemic experience in starting and managing a business. Long lasting market and industry changes\, capital support initiatives\, getting through the pandemic winter of 20/21. There will be time for questions\, comments\, lively discussion to learn from each other.\n\n\n\nPresenter: Ute Westphal\, MBA\n\nDirector and Program Manager\, Illinois Small Business Development Center\n\n(630) 942-2630\n\nEmail: westphalu@cod.edu\n\n\n\nUte Westphal is with the Business Development Center since May 2017 manages the this program at COD since September 2018 . She has been an entrepreneur in two different countries and brings a solid understanding of today's world of entrepreneurs. She advises business owners in all questions concerning incorporating\, operations\, financials/capitalization\, marketing and organizational structures. Her responsibilities extend into creating and conducting workshops and developing education and services into new business areas. She has a Master's of Business Administration (MBA) with a focus on training and business development. Under her leadership the team has helped over 150 startups and created a solid training and advising program for our area.\n\n\n\nIllinois Business Development Center Services\n\nEntrepreneurs and small business owners can obtain advising in management\, marketing\, financial and operations. We offer access to customized one-on-one advising and high-quality workshops to help you with business development. Our training and advising is available for new and existing businesses.
X-ALT-DESC;FMTTYPE=text/html:<h1 style="margin-top: 0in\; text-align: center\;"><br />\n<span style="font-size:18px\;"><span style="font-family:arial\;"><span style="color:#000000\;"><strong>Annual Election of Officers&nbsp\;</strong></span><span style="color:#000000\;"><strong>&amp\; Presentation Provided College of DuPage Business Development Center</strong></span></span></span></h1>\n<span style="font-family:arial\;"><span style="font-size:16px\;">&nbsp\;</span></span><br />\n<span style="font-size:14px\;"><u><strong>Program:The Change is Here to Stay</strong></u><br />\n<br />\nThe presentation will explain the services of the Business Development Center\, the seven elementary changes derived from the recent pandemic experience in starting and managing a business. Long lasting market and industry changes\, capital support initiatives\, getting through the pandemic winter of 20/21. There will be time for questions\, comments\, lively discussion to learn from each other.<br />\n<br />\n<u><strong>Presenter: Ute Westphal\, MBA</strong></u><br />\nDirector and Program Manager\, Illinois Small Business Development Center<br />\n(630) 942-2630<br />\nEmail: <a href="mailto:westphalu@cod.edu">westphalu@cod.edu</a><br />\n<br />\nUte Westphal is with the Business Development Center since May 2017 manages the this program at COD since September 2018 . She has been an entrepreneur in two different countries and brings a solid understanding of today&#39\;s world of entrepreneurs. She advises business owners in all questions concerning incorporating\, operations\, financials/capitalization\, marketing and organizational structures. Her responsibilities extend into creating and conducting workshops and developing education and services into new business areas. She has a Master&#39\;s of Business Administration (MBA) with a focus on training and business development. Under her leadership the team has helped over 150 startups and created a solid training and advising program for our area.<br />\n<br />\n<strong><u>Illinois Business Development Center Services</u></strong><br />\nEntrepreneurs and small business owners can obtain advising in management\, marketing\,&nbsp\;financial and operations. We offer access to customized one-on-one advising and high-quality&nbsp\;workshops to help you with business development.&nbsp\;Our&nbsp\;<a href="https://ilsbdc.ecenterdirect.com/events" target="_blank">training</a>&nbsp\;and advising is available for new and existing businesses.&nbsp\;</span><br />\n&nbsp\;
LOCATION:Virtual Meeting (Zoom Link will be emailed 24 hours prior)
UID:e.1124.9805
SEQUENCE:3
DTSTAMP:20260421T151128Z
URL:https://business.glenellynchamber.com/events/details/glen-ellyn-chamber-virtual-monthly-meeting-9805
END:VEVENT

END:VCALENDAR
