BEGIN:VCALENDAR
VERSION:2.0
PRODID:-//ChamberMaster//Event Calendar 2.0//EN
METHOD:PUBLISH
X-PUBLISHED-TTL:P3D
REFRESH-INTERVAL:P3D
CALSCALE:GREGORIAN
BEGIN:VEVENT
DTSTART:20200211T230000Z
DTEND:20200212T020000Z
X-MICROSOFT-CDO-ALLDAYEVENT:FALSE
SUMMARY:Glen Ellyn Community Awards
DESCRIPTION:Click Here for More Information
X-ALT-DESC;FMTTYPE=text/html:<strong><span style="font-size: 24px\;"><a href="https://www.glenellynchamber.com/awards/">Click Here for More Information</a></span></strong>
LOCATION:
UID:e.1124.9429
SEQUENCE:3
DTSTAMP:20260425T214633Z
URL:https://business.glenellynchamber.com/events/details/glen-ellyn-community-awards-9429
END:VEVENT

END:VCALENDAR
