BEGIN:VCALENDAR
VERSION:2.0
PRODID:-//ChamberMaster//Event Calendar 2.0//EN
METHOD:PUBLISH
X-PUBLISHED-TTL:P3D
REFRESH-INTERVAL:P3D
CALSCALE:GREGORIAN
BEGIN:VEVENT
DTSTART;VALUE=DATE:20201130
DTEND;VALUE=DATE:20201201
TRANSP:TRANSPARENT
X-MICROSOFT-CDO-ALLDAYEVENT:TRUE
SUMMARY:Glen Ellyn Community Awards Voting Opens
DESCRIPTION:Voting Opens\n\nNovember 30 - January 24\n\nTo vote visit glenellynchamber.com/awards
X-ALT-DESC;FMTTYPE=text/html:Voting Opens<br />\nNovember 30 - January 24<br />\n<span style="font-size:22px\;"><strong>To vote visit&nbsp\;<a href="http://glenellynchamber.com/awards">glenellynchamber.com/awards</a></strong></span>
LOCATION:
UID:e.1124.9871
SEQUENCE:3
DTSTAMP:20260421T150846Z
URL:https://business.glenellynchamber.com/events/details/glen-ellyn-community-awards-voting-opens-9871
END:VEVENT

END:VCALENDAR
