BEGIN:VCALENDAR
VERSION:2.0
PRODID:-//ChamberMaster//Event Calendar 2.0//EN
METHOD:PUBLISH
X-PUBLISHED-TTL:P3D
REFRESH-INTERVAL:P3D
CALSCALE:GREGORIAN
BEGIN:VEVENT
DTSTART:20220721T000000Z
DTEND:20220721T010000Z
X-MICROSOFT-CDO-ALLDAYEVENT:FALSE
SUMMARY:Glen Ellyn Historical Society presents Leslie Goddard and her program\, "Iconic Chicago Food"
DESCRIPTION:Chicago is the birthplace of some of the most unique dishes in the nation. Join historian Leslie Goddard\, Ph.D.\, for a look at five iconic Chicago foods: deep-dish pizza\, Italian beef sandwiches\, Chicago-style hot dogs\, cheesecake\, and Frango mints. Learn the stories behind each of these signature foods and how they reflect Chicago's unique patterns of immigration\, cultural traditions\, and creative inventiveness. An illustrated lecture. Refreshments served. $5 at door.
X-ALT-DESC;FMTTYPE=text/html:<span style="background:white\;"><span style="color:black\;"><span style="font-family:arial\,sans-serif\;"><span style="font-size:10.5pt\;">Chicago is the birthplace of some of the most unique dishes in the nation. Join historian Leslie Goddard\, Ph.D.\, for a look at five iconic Chicago foods: deep-dish pizza\, Italian beef sandwiches\, Chicago-style hot dogs\, cheesecake\, and Frango mints. Learn the stories behind each of these signature foods and how they&nbsp\;reflect Chicago&rsquo\;s unique patterns of immigration\, cultural traditions\, and creative inventiveness.&nbsp\;An&nbsp\;illustrated lecture. Refreshments served. $5 at door</span></span></span></span><span style="background:white\;"><span style="color:green\;"><span style="font-family:arial\,sans-serif\;"><span style="font-size:10.5pt\;">.</span></span></span></span><br />\n&nbsp\;
LOCATION:The Glen Ellyn History Center 800 N. Main Street Glen Ellyn\, IL 60137
UID:e.1124.10258
SEQUENCE:3
DTSTAMP:20260421T121335Z
URL:https://business.glenellynchamber.com/events/details/glen-ellyn-historical-society-presents-leslie-goddard-and-her-program-iconic-chicago-food-10258
END:VEVENT

END:VCALENDAR
