BEGIN:VCALENDAR
VERSION:2.0
PRODID:-//ChamberMaster//Event Calendar 2.0//EN
METHOD:PUBLISH
X-PUBLISHED-TTL:P3D
REFRESH-INTERVAL:P3D
CALSCALE:GREGORIAN
BEGIN:VEVENT
DTSTART:20200219T160000Z
DTEND:20200220T053000Z
X-MICROSOFT-CDO-ALLDAYEVENT:FALSE
SUMMARY:Glen Ellyn Non-Profit Connection Meeting
DESCRIPTION:The Glen Ellyn Non-Profit Connection is a resource to connect non-profits through networking and education.  Non-Profits have similar issues and struggles. Together we can make each other stronger.\n\n \n\nAt these meetings\, each organization will: \n\n	\n	Introduce themselves\, their organization and share upcoming news\, events and services. We will also discuss any struggles at our round-table at the meeting.\n	\n	\n	A 30-minute Professional Speaker will be provided on an issue directed specifically to help non-profits. \n	\n	\n	A Round Table of Discussion & Best Practices will follow as we will discuss the topics of struggles listed previously.  Example topics: fundraising\, volunteer recruitment\, telling your story\, grant writing\, transitioning of the Board or staff\, etc.  There will be years of experience and people with many talents.  Together we can support each other\, foster and collaborate ideas and improve our community.   \n	\n\nThese meetings are open to all non-profit Chamber Members at no additional charge.  We will send out emails confirming further details. Coffee and pastries will be served. Non-Chamber non-profits are encouraged to attend a meeting to be introduced to the program and GECOC membership.\n\n \n\nPlease do not hesitate to contact the Glen Ellyn Chamber of Commerce with questions and comments.\n\n__________________________________________________________\n\n\n\nThe Non-Profit Connection meetings will be held 10:00 - 11:30am in the meeting room of the Glen Ellyn Public Library\, 400 Duane St\, Glen Ellyn\, IL  60137.  \n\n\n\nMark your calendars:\n\n\n	\n	Wednesday\, February 19\, 2020\n	\n	\n	Wednesday\, May 20\, 2020\n	\n	\n	Wednesday\, August 19\, 2020\n	\n	\n	Tuesday\, October 13\, 2020 - The Non-Profit Forum Program & Luncheon
X-ALT-DESC;FMTTYPE=text/html:<span style="font-size:14px\;"><span style="font-family:arial\;">The <em>Glen Ellyn Non-Profit Connection</em> is a resource to connect non-profits through networking and education.&nbsp\; Non-Profits have similar issues and struggles. Together we can make each other stronger.<br />\n&nbsp\;<br />\nAt these meetings\, each organization will: </span></span>\n<ol>\n	<li>\n	<p><span style="font-size:14px\;"><span style="font-family:arial\;"><em>Introduce</em> themselves\, their organization and share upcoming news\, events and services. We will also discuss any struggles at our round-table at the meeting.</span></span></p>\n	</li>\n	<li>\n	<p><span style="font-size:14px\;"><span style="font-family:arial\;"><em>A 30-minute Professional Speaker</em> will be provided on an issue directed specifically to help non-profits.&#8203\;</span></span></p>\n	</li>\n	<li>\n	<p><span style="font-size:14px\;"><span style="font-family:arial\;"><em>A Round Table of Discussion &amp\; Best Practices</em> will follow as we will discuss the topics of struggles listed previously.&nbsp\; Example topics: fundraising\, volunteer recruitment\, telling your story\, grant writing\, transitioning of the Board or staff\, etc.&nbsp\; There will be years of experience and people with many talents.&nbsp\; Together we can support each other\, foster and collaborate ideas and improve our community.&nbsp\;&nbsp\; </span></span></p>\n	</li>\n</ol>\n<span style="font-size:14px\;"><span style="font-family:arial\;">These meetings are open to all non-profit Chamber Members at no additional charge.&nbsp\; We will send out emails confirming further details. Coffee and pastries will be served. Non-Chamber non-profits are encouraged to attend a meeting to be introduced to the program and GECOC membership.<br />\n&nbsp\;<br />\nPlease do not hesitate to contact the Glen Ellyn Chamber of Commerce with questions and comments.<br />\n__________________________________________________________<br />\n<br />\n<strong>The Non-Profit Connection meetings will be held 10:00 - 11:30am in the meeting room of the Glen Ellyn Public Library\, 400 Duane St\, Glen Ellyn\, IL&nbsp\; 60137. &nbsp\;<br />\n<br />\nMark your calendars:</strong></span></span>\n\n<ul>\n	<li>\n	<p><span style="font-size:14px\;"><span style="font-family:arial\;"><strong>Wednesday\, February 19\, 2020</strong></span></span></p>\n	</li>\n	<li>\n	<p><strong style="font-family: arial\; font-size: 14px\;">Wednesday</strong><span style="font-size:14px\;"><span style="font-family:arial\;"><strong>\, May 20\, 2020</strong></span></span></p>\n	</li>\n	<li>\n	<p><strong style="font-family: arial\; font-size: 14px\;">Wednesday</strong><span style="font-family:arial\;"><strong>\,&nbsp\;</strong></span><span style="font-size:14px\;"><span style="font-family:arial\;"><strong>August 19\, 2020</strong></span></span></p>\n	</li>\n	<li>\n	<p><span style="font-size:14px\;"><span style="font-family:arial\;"><strong><span style="font-family:arial\;"><strong>Tuesday\, October 13\, 2020&nbsp\;- The Non-Profit Forum Program &amp\; Luncheon&nbsp\;</strong></span></strong></span></span></p>\n	</li>\n</ul>\n
LOCATION:Glen Ellyn Public Library Meeting Room 400 Duane Street Glen Ellyn\, IL 60137
UID:e.1124.9452
SEQUENCE:3
DTSTAMP:20260425T213247Z
URL:https://business.glenellynchamber.com/events/details/glen-ellyn-non-profit-connection-meeting-9452
END:VEVENT

END:VCALENDAR
