BEGIN:VCALENDAR
VERSION:2.0
PRODID:-//ChamberMaster//Event Calendar 2.0//EN
METHOD:PUBLISH
X-PUBLISHED-TTL:P3D
REFRESH-INTERVAL:P3D
CALSCALE:GREGORIAN
BEGIN:VEVENT
DTSTART:20201223T190000Z
DTEND:20201224T000000Z
X-MICROSOFT-CDO-ALLDAYEVENT:FALSE
SUMMARY:Glen Ellyn Park District December Blood Drive
DESCRIPTION:Glen Ellyn Park District will be hosting another blood drive at Ackerman SFC on Wednesday\, December 23rd from 1 to 6pm. Appointments are recommended\, walk-ups will be subject to availability.\n\n\n\nAppointments can be made at: https://donate.illinois.versiti.org/donor/schedules/drive_schedule/5588367
X-ALT-DESC;FMTTYPE=text/html:Glen Ellyn Park District will be hosting another blood drive at Ackerman SFC on Wednesday\, December 23rd from 1 to 6pm. Appointments are recommended\, walk-ups will be subject to availability.<br />\n<br />\nAppointments can be made at: <a href="https://donate.illinois.versiti.org/donor/schedules/drive_schedule/5588367">https://donate.illinois.versiti.org/donor/schedules/drive_schedule/5588367</a>
LOCATION:Ackerman SFC
UID:e.1124.9869
SEQUENCE:3
DTSTAMP:20260421T121223Z
URL:https://business.glenellynchamber.com/events/details/glen-ellyn-park-district-december-blood-drive-9869
END:VEVENT

END:VCALENDAR
