BEGIN:VCALENDAR
VERSION:2.0
PRODID:-//ChamberMaster//Event Calendar 2.0//EN
METHOD:PUBLISH
X-PUBLISHED-TTL:P3D
REFRESH-INTERVAL:P3D
CALSCALE:GREGORIAN
BEGIN:VEVENT
DTSTART:20230315T000000Z
DTEND:20230315T020000Z
X-MICROSOFT-CDO-ALLDAYEVENT:FALSE
SUMMARY:GPS Presents Practical Strategies for Reducing Anxiety and Challenging Behavior in Students
DESCRIPTION:This event will be presented virtually.  The link to log in to this webinar from your computer\, tablet or phone is https://glenbard.zoom.us/j/86780250400\n\nWith anxiety and challenging behaviors on the rise\, adults need effective and easy-to-implement strategies to help young people process critical thoughts and interrupt negative behavior patterns. Using case studies\, humorous stories and examples of common challenging situations\, Jessica Minahan will deliver a systematic approach to enhance adolescent coping skills and provide tools and interventions for reducing students' anxiety and increasing their self-regulation and flexible thinking.\n\nMinahan is a licensed and board-certified behavior analyst\, special educator and internationally known school consultant. She works with students who struggle with emotional and behavioral disabilities\, anxiety disorders\, high-functioning autism or mental health issues. She is the author of "The Behavior Code: A Practical Guide to Understanding and Teaching the Most Challenging Students\," and "The Behavior Code Companion: Strategies\, Tools\, and Interventions for Supporting Students with Anxiety-Related or Oppositional Behavior."\n\nNOTE: This presentation will run two hours in length.
X-ALT-DESC;FMTTYPE=text/html:<p style="box-sizing: border-box\; margin: 0px 0px 10px\; line-height: 1.7\; color: rgb(0\, 0\, 0)\; font-family: arial\; font-size: 14px\;"><em style="box-sizing: border-box\;">This event will be presented virtually.&nbsp\; The link to log in to this webinar from your computer\, tablet or phone is&nbsp\;<strong style="box-sizing: border-box\;"><a href="https://glenbard.zoom.us/j/86780250400" rel="noopener" style="box-sizing: border-box\; background-color: transparent\; text-decoration-line: none\; color: var(--tec-color-link-accent)\;" target="_blank">https://glenbard.zoom.us/j/86780250400</a></strong></em></p>\n\n<p style="box-sizing: border-box\; margin: 0px 0px 10px\; line-height: 1.7\; color: rgb(0\, 0\, 0)\; font-family: arial\; font-size: 14px\;">With anxiety and challenging behaviors on the rise\, adults need effective and easy-to-implement strategies to help young people process critical thoughts and interrupt negative behavior patterns. Using case studies\, humorous stories and examples of common challenging situations\, Jessica Minahan will deliver a systematic approach to enhance adolescent coping skills and provide tools and interventions for reducing students&rsquo\; anxiety and increasing their self-regulation and flexible thinking.</p>\n\n<p style="box-sizing: border-box\; margin: 0px 0px 10px\; line-height: 1.7\; color: rgb(0\, 0\, 0)\; font-family: arial\; font-size: 14px\;">Minahan is a licensed and board-certified behavior analyst\, special educator and internationally known school consultant. She works with students who struggle with emotional and behavioral disabilities\, anxiety disorders\, high-functioning autism or mental health issues. She is the author of &ldquo\;The Behavior Code: A Practical Guide to Understanding and Teaching the Most Challenging Students\,&rdquo\; and &ldquo\;The Behavior Code Companion: Strategies\, Tools\, and Interventions for Supporting Students with Anxiety-Related or Oppositional Behavior.&rdquo\;</p>\n\n<p style="box-sizing: border-box\; margin: 0px 0px 10px\; line-height: 1.7\; color: rgb(0\, 0\, 0)\; font-family: arial\; font-size: 14px\;"><strong style="box-sizing: border-box\;">NOTE: This presentation will run two hours in length.</strong></p>\n
LOCATION:
UID:e.1124.10617
SEQUENCE:3
DTSTAMP:20260421T094333Z
URL:https://business.glenellynchamber.com/events/details/gps-presents-practical-strategies-for-reducing-anxiety-and-challenging-behavior-in-students-10617
END:VEVENT

END:VCALENDAR
