BEGIN:VCALENDAR
VERSION:2.0
PRODID:-//ChamberMaster//Event Calendar 2.0//EN
METHOD:PUBLISH
X-PUBLISHED-TTL:P3D
REFRESH-INTERVAL:P3D
CALSCALE:GREGORIAN
BEGIN:VEVENT
DTSTART:20211127T000000Z
DTEND:20211127T023000Z
X-MICROSOFT-CDO-ALLDAYEVENT:FALSE
SUMMARY:Holiday Walk
DESCRIPTION:Click Here for More Information
X-ALT-DESC;FMTTYPE=text/html:<p style="color: rgb(64\, 63\, 66)\; font-family: Arial\, Verdana\, Helvetica\, sans-serif\; font-size: 12px\; white-space: pre-wrap\;"><a href="http://glenellynchamber.com/holiday"><span style="font-size:20px\;"><strong><span style="color: rgb(0\, 0\, 0)\;">Click Here for More Information </span></strong></span></a></p>\n
LOCATION:
UID:e.1124.10030
SEQUENCE:3
DTSTAMP:20260424T142229Z
URL:https://business.glenellynchamber.com/events/details/holiday-walk-10030
END:VEVENT

END:VCALENDAR
