BEGIN:VCALENDAR
VERSION:2.0
PRODID:-//ChamberMaster//Event Calendar 2.0//EN
METHOD:PUBLISH
X-PUBLISHED-TTL:P3D
REFRESH-INTERVAL:P3D
CALSCALE:GREGORIAN
BEGIN:VEVENT
DTSTART:20210318T183000Z
DTEND:20210318T193000Z
X-MICROSOFT-CDO-ALLDAYEVENT:FALSE
SUMMARY:How to Play the Game: Opportunities and Pitfalls in a “Gamified” Workplace
DESCRIPTION:In recent years\, gamification has captured employers' interest as a way to spruce up employee recruitment\, training\, performance\, and engagement. Gamification in the workplace uses game elements to motivate employees to perform their best. It prompts them to compete with their goals\, and/or team members\, as well as past accomplishments. It shows how they're doing and what's needed to reach their goals.In this presentation\, we will unpack the gamification craze and explore legal traps that employers should account for in in considering a gamification strategy. Topics will include: v an overview of gamification v exploration of potential legal pitfalls including in the area of: wage-hour law\, discrimination\, reasonable accommodation\, and privacy v best practices for implementing a gamification strategy
X-ALT-DESC;FMTTYPE=text/html:In recent years\, gamification has captured employers&rsquo\; interest as a way to spruce up employee recruitment\, training\, performance\, and engagement. Gamification in the workplace uses game elements to motivate employees to perform their best. It prompts them to compete with their goals\, and/or team members\, as well as past accomplishments. It shows how they&rsquo\;re doing and what&rsquo\;s needed to reach their goals.In this presentation\, we will unpack the gamification craze and explore legal traps that employers should account for in in considering a gamification strategy. Topics will include: v an overview of gamification v exploration of potential legal pitfalls including in the area of: wage-hour law\, discrimination\, reasonable accommodation\, and privacy v best practices for implementing a gamification strategy
LOCATION:Webinar
UID:e.1124.9942
SEQUENCE:3
DTSTAMP:20260421T094532Z
URL:https://business.glenellynchamber.com/events/details/how-to-play-the-game-opportunities-and-pitfalls-in-a-gamified-workplace-9942
END:VEVENT

END:VCALENDAR
