BEGIN:VCALENDAR
VERSION:2.0
PRODID:-//ChamberMaster//Event Calendar 2.0//EN
METHOD:PUBLISH
X-PUBLISHED-TTL:P3D
REFRESH-INTERVAL:P3D
CALSCALE:GREGORIAN
BEGIN:VEVENT
DTSTART:20220420T150000Z
DTEND:20220420T170000Z
X-MICROSOFT-CDO-ALLDAYEVENT:FALSE
SUMMARY:Illinois Sales and Use Tax: What Illinois Companies Need to Know
DESCRIPTION:ON THE AGENDA Reviewing the Basics Retailer's Occupation Tax and the Use Tax Service Occupation Tax and Service Use Tax Locally Imposed Taxes Registration and Compliance Issues Registration\, Filing Requirements Recordkeeping and Documentation Exemptions\, Deductions\, Credits\, and Incentives Audits and Dispute Resolution The Audit Process The Unagreed Audit or Assessment
X-ALT-DESC;FMTTYPE=text/html:ON THE AGENDA Reviewing the Basics Retailer&rsquo\;s Occupation Tax and the Use Tax Service Occupation Tax and Service Use Tax Locally Imposed Taxes Registration and Compliance Issues Registration\, Filing Requirements Recordkeeping and Documentation Exemptions\, Deductions\, Credits\, and Incentives Audits and Dispute Resolution The Audit Process The Unagreed Audit or Assessment
LOCATION:Webinar
UID:e.1124.10219
SEQUENCE:3
DTSTAMP:20260421T151557Z
URL:https://business.glenellynchamber.com/events/details/illinois-sales-and-use-tax-what-illinois-companies-need-to-know-10219
END:VEVENT

END:VCALENDAR
