BEGIN:VCALENDAR
VERSION:2.0
PRODID:-//ChamberMaster//Event Calendar 2.0//EN
METHOD:PUBLISH
X-PUBLISHED-TTL:P3D
REFRESH-INTERVAL:P3D
CALSCALE:GREGORIAN
BEGIN:VEVENT
DTSTART;VALUE=DATE:20210101
DTEND;VALUE=DATE:20220101
TRANSP:TRANSPARENT
X-MICROSOFT-CDO-ALLDAYEVENT:TRUE
SUMMARY:Illinois Sexual Harassment Prevention Training
DESCRIPTION:Did You Complete Your Anti-Sexual  Harassment Training?\n\n\n\nIn 2019\, the Illinois Legislature passed the Illinois Workplace Transparency Act. As a result\, employers must provide anti-sexual harassment training to their employees at least once per year. Failure to do so could result in employers being fined by the Department of Human Rights. \n\n \n\nDid you complete your Anti-Sexual Harassment Training? If not\, consider the information at this link so you and your employees can complete this requirement.
X-ALT-DESC;FMTTYPE=text/html:<div font-size:="" font-weight:="" open="" style="color: rgb(0\, 0\, 0)\; font-family: " text-align:=""><strong><span style="font-size:18px\;">Did You Complete Your Anti-Sexual &#65279\;Harassment Training?</span></strong></div>\n\n<div font-size:="" open="" style="color: rgb(0\, 0\, 0)\; font-family: " white-space:=""><br />\n<span style="font-family:arial\;"><span style="font-size: 16px\;">In 2019\, the Illinois Legislature passed the Illinois Workplace Transparency Act. As a result\, employers must provide anti-sexual harassment training to their employees at least once per year. Failure to do so could result in employers being fined by the Department of Human Rights. </span></span><br />\n<span style="font-family:arial\;"><span style="font-size: 16px\;">&nbsp\;</span></span></div>\n\n<div font-size:="" open="" style="color: rgb(0\, 0\, 0)\; font-family: " white-space:=""><span style="font-family:arial\;"><span style="color: rgb(12\, 12\, 12)\; font-size: 16px\;">Did you complete your Anti-Sexual Harassment Training? If not\, consider the information at this <a href="https://dhr.illinois.gov/training/sexual-harassment-prevention-training-videos-and-audio.html">link</a> so you and your employees can complete this requirement.</span></span></div>\n
LOCATION:
UID:e.1124.9899
SEQUENCE:3
DTSTAMP:20260421T014428Z
URL:https://business.glenellynchamber.com/events/details/illinois-sexual-harassment-prevention-training-9899
END:VEVENT

END:VCALENDAR
