BEGIN:VCALENDAR
VERSION:2.0
PRODID:-//ChamberMaster//Event Calendar 2.0//EN
METHOD:PUBLISH
X-PUBLISHED-TTL:P3D
REFRESH-INTERVAL:P3D
CALSCALE:GREGORIAN
BEGIN:VEVENT
DTSTART:20220218T010000Z
DTEND:20220218T023000Z
X-MICROSOFT-CDO-ALLDAYEVENT:FALSE
SUMMARY:"Electoral College History and Reform" LWVGE Community Meeting\, February 17th\, 7-8:30
DESCRIPTION:LWVGE February Community Meeting:  "Electoral College History and Reform" \n\nThe League of Women Voters US has had a position to abolish the electoral college in favor of a one person - one vote system for more than 50 years. It is a non-partisan effort that will benefit all voters in our nation.\n\n\n\nJoin an enlightening presentation by speaker LWVIL Elizabeth J. Guscott-Mueller ("Joy")\, JD\, MDiv\, to learn about the background on what the electoral college is\, why it was implemented\, how it operates\, why it is failing our democracy now\, the rationale for the league position for abolishment and what could replace it.\n\n\n\nRegister in advance for this webinar:  www.lwvge.org/upcoming events \n\nAfter registering\, you will receive a confirmation email containing information about joining the webinar.
X-ALT-DESC;FMTTYPE=text/html:<p><span style="font-size:22px"><strong>LWVGE February Community Meeting:&nbsp\; &quot\;Electoral College History and Reform&quot\; </strong></span><br />\n<span style="font-size:20px"><span style="font-family:times new roman"><span style="background-color:rgb(255\, 255\, 255)\; color:rgba(4\, 3\, 32\, 0.7)">The League of Women Voters US has had a position to abolish the electoral college in favor of a one person - one vote system for more than 50 years. It is a non-partisan effort that will benefit all voters in our nation.<br />\n<br />\nJoin an enlightening presentation by speaker LWVIL Elizabeth J. Guscott-Mueller (&quot\;Joy&quot\;)\, JD\, MDiv\, to learn about the background on what the electoral college is\, why it was implemented\, how it operates\, why it is failing our democracy now\, the rationale for the league position for abolishment and what could replace it.</span></span><br />\n<br />\n<u><strong><span style="font-family:times new roman">Register in advance for this webinar</span></strong></u><strong><span style="font-family:times new roman">:&nbsp\; www.lwvge.org/upcoming events </span></strong><br />\n<span style="font-family:times new roman">A</span></span><span style="font-family:times new roman\; font-size:20px">fter registering\, you will receive a confirmation email containing information about joining the webinar. </span><br />\n<br />\n&nbsp\;</p>\n
LOCATION:Via Zoom
UID:e.1124.10153
SEQUENCE:3
DTSTAMP:20260421T164119Z
URL:https://business.glenellynchamber.com/events/details/league-of-women-voters-of-glen-ellyn-community-meeting-10153
END:VEVENT

END:VCALENDAR
