BEGIN:VCALENDAR
VERSION:2.0
PRODID:-//ChamberMaster//Event Calendar 2.0//EN
METHOD:PUBLISH
X-PUBLISHED-TTL:P3D
REFRESH-INTERVAL:P3D
CALSCALE:GREGORIAN
BEGIN:VEVENT
DTSTART:20220423T170000Z
DTEND:20220423T190000Z
X-MICROSOFT-CDO-ALLDAYEVENT:FALSE
SUMMARY:Learn About Juliette Kinzie\, One of Chicago's Forgotten Founders on Sat. April 23
DESCRIPTION:Saturday\, April 23 at 2:00 PM in the Glen Ellyn History Center\, 800 N. Main Street\, the Glen Ellyn Historical Society presents author Ann Keating\, Ph.D. and her program\, "The World of Juliette Kinzie: Chicago Before the Fire." Kinzie was an American historian\, writer and pioneer as well as one of Chicago's forgotten founders. Keating takes us through the lives of the women who worked to create an urban and urbane world. She explains the rise of Chicago from the viewpoint of one of its founding mothers. Keating is a professor of History at North Central College and an expert on 19th century Chicago. Fee is $5 for adults and students are free. Tickets are at the door and refreshments are served. Call 630-469-1867 and check website at www.gehs.org for more details.
X-ALT-DESC;FMTTYPE=text/html:Saturday\, April 23 at 2:00 PM in the Glen Ellyn History Center\, 800 N. Main Street\, the Glen Ellyn Historical Society presents author Ann Keating\, Ph.D. and her program\, &ldquo\;The World of Juliette Kinzie: Chicago Before the Fire.&rdquo\; Kinzie was an American historian\, writer and pioneer as well as one of Chicago&#39\;s forgotten founders. Keating takes us through the lives of the women who worked to create an urban and urbane world. She explains the rise of Chicago from the viewpoint of one of its founding mothers. Keating is a professor of History at North Central College and an expert on 19th century Chicago. Fee is $5 for adults and students are free. Tickets are at the door and refreshments are served. Call 630-469-1867 and check website at www.gehs.org for more details.
LOCATION:Glen Ellyn History Center - 800 N. Main Street
UID:e.1124.10216
SEQUENCE:3
DTSTAMP:20260421T134646Z
URL:https://business.glenellynchamber.com/events/details/learn-about-juliette-kinzie-one-of-chicago-s-forgotten-founders-on-sat-april-23-10216
END:VEVENT

END:VCALENDAR
