BEGIN:VCALENDAR
VERSION:2.0
PRODID:-//ChamberMaster//Event Calendar 2.0//EN
METHOD:PUBLISH
X-PUBLISHED-TTL:P3D
REFRESH-INTERVAL:P3D
CALSCALE:GREGORIAN
BEGIN:VEVENT
DTSTART;VALUE=DATE:20200214
DTEND;VALUE=DATE:20200215
TRANSP:TRANSPARENT
X-MICROSOFT-CDO-ALLDAYEVENT:TRUE
SUMMARY:LWV of Glen Ellyn 100th Anniversary Display at Glen Ellyn Public Library & The Bookstore
DESCRIPTION:The League of Women Voters is celebrating its100th Anniversary!  The LWV of the United States began in Chicago on February 14\, 1920.  Come see the Glen Ellyn League of Women Voters 100th Anniversary Display at the Glen Ellyn Public Library\, 400 Duane Street\, Glen Ellyn: Feb 7th - Feb 20th  AND The Bookstore\, 475 Main Street\, Glen Ellyn: Feb 14th - Feb 20th. The display at The Bookstore features a spectacular 100th Anniversary Quilt made by LWVGE member Lynn Bruno that is being raffled.   For more information on the displays or to purchase quilt raffle tickets visit LWVGE website @ lwvge.org
X-ALT-DESC;FMTTYPE=text/html:<span style="font-size:18px"><span style="font-family:times new roman\,serif">The League of Women Voters is celebrating its100th Anniversary! &nbsp\;The LWV of the United States began in Chicago on February 14\, 1920.&nbsp\; Come see the <strong>Glen Ellyn League of Women Voters 100th Anniversary Display </strong>at the<u> Glen Ellyn Public Library\,</u> 400 Duane Street\, Glen Ellyn: Feb 7th - Feb 20th&nbsp\; AND The Bookstore\, 475 Main Street\, Glen Ellyn: Feb 14th - Feb 20th. The display at The Bookstore features a spectacular 100th Anniversary Quilt made by LWVGE member Lynn Bruno that is being raffled.&nbsp\;&nbsp\; For more information on the displays or to purchase quilt raffle tickets <strong>visit LWVGE website @ lwvge.org</strong></span></span><br />\n&nbsp\;
LOCATION:Glen Ellyn Public Library 400 Duane Street Glen Ellyn Feb 7-20\, 2020 The Bookstore 475 N Main Street Glen Ellyn Feb 14-20\, 2020
UID:e.1124.9492
SEQUENCE:3
DTSTAMP:20260425T213350Z
URL:https://business.glenellynchamber.com/events/details/lwv-of-glen-ellyn-100th-anniversary-display-at-glen-ellyn-public-library-the-bookstore-02-07-2020-9492
END:VEVENT

END:VCALENDAR
