BEGIN:VCALENDAR
VERSION:2.0
PRODID:-//ChamberMaster//Event Calendar 2.0//EN
METHOD:PUBLISH
X-PUBLISHED-TTL:P3D
REFRESH-INTERVAL:P3D
CALSCALE:GREGORIAN
BEGIN:VEVENT
DTSTART:20210122T010000Z
DTEND:20210122T021500Z
X-MICROSOFT-CDO-ALLDAYEVENT:FALSE
SUMMARY:"Glen Ellyn State of the Village" LWVGE Community Meeting January 21\, 2021 7:00PM -8:15PM via ZOOM
DESCRIPTION:LWVGE hosts "Glen Ellyn State of the Village Address"  January Community Meeting \n\nJoin the League via Zoom when we welcome the interim Village President and Village Manager\, Mark Franz as they present a look back and a look forward for Glen Ellyn. There are many new developments going up in Glen Ellyn and this is a great opportunity to stay informed. \n\n\n\nRegister in advance for this webinar by clicking on the website in this event post. After registering\, you will receive a confirmation email containing information about joining the webinar. There will be 30 minutes allocated to questions. If you would like a question to be considered\, please submit your question when registering for the event.
X-ALT-DESC;FMTTYPE=text/html:<p><span style="font-size:22px"><strong>LWVGE hosts &quot\;Glen Ellyn State of the Village Address&quot\;&nbsp\; January Community Meeting&nbsp\;</strong></span><br />\n<span style="font-size:20px"><span style="font-family:times new roman"><span style="background-color:rgb(255\, 255\, 255)\; color:rgba(4\, 3\, 32\, 0.7)">Join the League via Zoom when we welcome the interim Village President and Village Manager\, Mark Franz as they present a look back and a look forward for Glen Ellyn. There are many new developments going up in Glen Ellyn and this is a great opportunity to stay informed.&nbsp\;</span></span><br />\n<br />\n<u><strong><span style="font-family:times new roman">Register in advance for this webinar by clicking on the website in this event post.</span></strong></u><strong><span style="font-family:times new roman"> </span></strong><span style="font-family:times new roman">A</span></span><span style="font-family:times new roman\; font-size:20px">fter registering\, you will receive a confirmation email containing information about joining the webinar. There will be 30 minutes allocated to questions. If you would like a question to be considered\, please submit your question when registering for the event.&nbsp\;</span></p>\n\n<p>&nbsp\;</p>\n
LOCATION:Meeting via ZOOM
UID:e.1124.9898
SEQUENCE:3
DTSTAMP:20260421T121429Z
URL:https://business.glenellynchamber.com/events/details/lwvge-community-meeting-state-of-the-village-january-21-2021-7-00pm-8-15pm-via-zoom-9898
END:VEVENT

END:VCALENDAR
