BEGIN:VCALENDAR
VERSION:2.0
PRODID:-//ChamberMaster//Event Calendar 2.0//EN
METHOD:PUBLISH
X-PUBLISHED-TTL:P3D
REFRESH-INTERVAL:P3D
CALSCALE:GREGORIAN
BEGIN:VEVENT
DTSTART:20201112T160000Z
DTEND:20201112T170000Z
X-MICROSOFT-CDO-ALLDAYEVENT:FALSE
SUMMARY:Multi-Chamber: Employer Obligations During COVID-19
DESCRIPTION:Presented by:\n\nMehwish Javed\, CSP\n\nIndustrial Services Consultant II\n\nIllinois Department of Labor
X-ALT-DESC;FMTTYPE=text/html:Presented by:<br />\nMehwish Javed\, CSP<br />\nIndustrial Services Consultant II<br />\nIllinois Department of Labor
LOCATION:Virtual Webinar A link will be emailed to you prior the event
UID:e.1124.9862
SEQUENCE:3
DTSTAMP:20260421T151033Z
URL:https://business.glenellynchamber.com/events/details/multi-chamber-employer-obligations-during-covid-19-9862
END:VEVENT

END:VCALENDAR
